BEGIN:VCALENDAR
VERSION:2.0
PRODID:-//www.loftkoeln.de - ECPv5.14.2.1//NONSGML v1.0//EN
CALSCALE:GREGORIAN
METHOD:PUBLISH
X-WR-CALNAME:www.loftkoeln.de
X-ORIGINAL-URL:https://www.loftkoeln.de
X-WR-CALDESC:Veranstaltungen für www.loftkoeln.de
BEGIN:VTIMEZONE
TZID:UTC
BEGIN:STANDARD
TZOFFSETFROM:+0000
TZOFFSETTO:+0000
TZNAME:UTC
DTSTART:20190101T000000
END:STANDARD
END:VTIMEZONE
BEGIN:VEVENT
DTSTART;TZID=UTC:20190310T180000
DTEND;TZID=UTC:20190310T180000
DTSTAMP:20260422T161952
CREATED:20190116T163653Z
LAST-MODIFIED:20190307T164044Z
UID:10773-1552240800-1552240800@www.loftkoeln.de
SUMMARY:Joan Chávez Magdalena Trio - CD-Release Konzert
DESCRIPTION:Richard Brenner – Piano\nJoan Chávez – Bass\nMoritz Baranczyk – Schlagzeug \nspecial guest: Christian Ugurel – Tenorsaxophon  \n\n„Over the mighty Magdalena\, a lengthy project of the sea\, its islands of feather and sand cry it’s raucous call to the suns’ light.“ Nicolás Guillén \nDas Trio interpretiert Kompositionen und Arrangements von Joan Chávez\, die sowohl von lateinamerikanischer Musik\, als auch von zeitgenössischen und modernen Komponisten des Jazz beeinflusst sind. Das Programm umfasst Rhythmen aus Kolumbien und Argentinien\, wobei viel experimentiert wird. \n\n\nObwohl sich das Trio ganz neu zusammengeschlossen hat\, findet jeder Musiker seine eigene Stimme und Aufgabe in der Band\, und bewahrt sich die Freiheit individueller Improvisation und eigener Interpretationen.
URL:https://www.loftkoeln.de/event/joan-chavez-magdalena-trio-cd-release/
END:VEVENT
END:VCALENDAR