BEGIN:VCALENDAR
VERSION:2.0
PRODID:-//www.loftkoeln.de - ECPv5.14.2.1//NONSGML v1.0//EN
CALSCALE:GREGORIAN
METHOD:PUBLISH
X-WR-CALNAME:www.loftkoeln.de
X-ORIGINAL-URL:https://www.loftkoeln.de
X-WR-CALDESC:Veranstaltungen für www.loftkoeln.de
BEGIN:VTIMEZONE
TZID:Europe/Berlin
BEGIN:DAYLIGHT
TZOFFSETFROM:+0100
TZOFFSETTO:+0200
TZNAME:CEST
DTSTART:20250330T010000
END:DAYLIGHT
BEGIN:STANDARD
TZOFFSETFROM:+0200
TZOFFSETTO:+0100
TZNAME:CET
DTSTART:20251026T010000
END:STANDARD
END:VTIMEZONE
BEGIN:VEVENT
DTSTART;TZID=Europe/Berlin:20250519T200000
DTEND;TZID=Europe/Berlin:20250519T200000
DTSTAMP:20260424T140853
CREATED:20250326T151128Z
LAST-MODIFIED:20250429T082418Z
UID:29408-1747684800-1747684800@www.loftkoeln.de
SUMMARY:Jilman Zilman feat. Simon Nabatov - Farewell Tour 2025 | live recording
DESCRIPTION:Johannes Ludwig – Altsaxophon\nJulian Bossert – Altsaxophon\nSimon Nabatov – Piano\nPeter Christof – Bass\nTilman Herpichböhm – Schlagzeug \n\n(english: see below) \nWeitere Informationen zu den Preisen\, Karten-Reservierungen und den Öffnungszeiten finden Sie hier.\n\nJilman Zilman feat. Simon Nabatov © Lena Semmelroggen\n2010 gegründet\, geht das No-Harmony-Quartett Jilman Zilman nach 15 Jahren Bandbestehen ein letztes Mal auf Tour!\nDie Band des Augsburger Schlagzeuger Tilman Herpichböhm hat mit Julian Bossert und Johannes Ludwig zwei der interessantesten Alt-Saxophonisten der Szene an Bord\, und beeindruckt im Interplay und mit hochenergetischem\, leicht orientalischen Freebop.\nBesonderen Grund zur Freude gibt es\, weil auf der letzten Tour auch wieder ihr Lieblingsgastmusiker Simon Nabatov dabei ist\, mit dem 2017 auch eine CD beim Münchener Label GLM veröffentlicht wurde. Mit seinem beeindruckenden Klavierspiel bewegt sich der legendäre Pianist zwischen moderner improvisierter Musik und Tradition\, glänzt ebenso einfühlsam wie impulsiv und bringt die Musik des Quartetts damit auf ein neues Level. \nhttps://tilmantilman.de/ \n\nKlingt so: \n\n\n\n\n\n\nJohannes Ludwig – alto saxophone\nJulian Bossert – alto saxophone\nSimon Nabatov – piano\nPeter Christof – bass\nTilman Herpichböhm – drums \nFurther information about prices\, ticket reservations and our opening times can be found here. \nFounded in 2010\, the no-harmony quartet Jilman Zilman is going on tour one last time after 15 years as a band!\nThe band of Augsburg drummer Tilman Herpichböhm has two of the most interesting alto saxophonists on the scene on board\, Julian Bossert and Johannes Ludwig\, and impresses with their interplay and high-energy\, slightly oriental freebop.\nThere is a special reason to celebrate because their favorite guest musician Simon Nabatov\, with whom a CD was released on the Munich label GLM in 2017\, is back on the last tour. With his impressive piano playing\, the legendary pianist moves between modern improvised music and tradition\, shines both sensitively and impulsively and takes the quartet’s music to a new level.
URL:https://www.loftkoeln.de/event/jilman-zilman-feat-simon-nabatov-farewell-tour-2025-live-recording/
END:VEVENT
END:VCALENDAR