BEGIN:VCALENDAR
VERSION:2.0
PRODID:-//www.loftkoeln.de - ECPv5.14.2.1//NONSGML v1.0//EN
CALSCALE:GREGORIAN
METHOD:PUBLISH
X-WR-CALNAME:www.loftkoeln.de
X-ORIGINAL-URL:https://www.loftkoeln.de
X-WR-CALDESC:Veranstaltungen für www.loftkoeln.de
BEGIN:VTIMEZONE
TZID:Europe/Berlin
BEGIN:DAYLIGHT
TZOFFSETFROM:+0100
TZOFFSETTO:+0200
TZNAME:CEST
DTSTART:20250330T010000
END:DAYLIGHT
BEGIN:STANDARD
TZOFFSETFROM:+0200
TZOFFSETTO:+0100
TZNAME:CET
DTSTART:20251026T010000
END:STANDARD
END:VTIMEZONE
BEGIN:VEVENT
DTSTART;TZID=Europe/Berlin:20251214T220000
DTEND;TZID=Europe/Berlin:20251214T220000
DTSTAMP:20260421T192834
CREATED:20251031T144548Z
LAST-MODIFIED:20251213T155537Z
UID:31357-1765749600-1765749600@www.loftkoeln.de
SUMMARY:Jazz Haus Schule goes LOFT – Winterfestival Offene Jazz Haus Schule: Tag 2
DESCRIPTION:Es präsentieren sich Jazzbands und Ensembles der Offenen Jazz Haus Schule:\n\n10:00 Eigeltunes Jazz\, Ltg. André Nendza\n10:45 Round about lunch Jazz\, Ltg. André Nendza\n11:30 Steady well tempered Player Jazz\, Ltg. André Nendza\n12:15 2 good 2 be famous Jazz\, Ltg. André Nendza\n13:00 Up to the sky Jazz\, Ltg. Pablo Paredes\n13:15 Changing Colours Jazz\, Ltg. Lena Senge\n14:00 Jazzcubes Jazz\, Ltg. Ulla Oster\n14:45 The Manic Mondays Jazz\, Ltg. Lena Senge\n15:30 Desert Rain Frogs TeenJazz\, Ltg. Lukas Keller\n16:00 Who is Grace Vocalgroup\, Ltg. Nik Grunwald\n’16:30 Groovin’ Horns Bläserensemble\, Ltg. François de Ribaupierre\n17:00 The Kleptophonics Jazz\, Ltg. Julian Bossert\n17:30 What’s New Jazz\, Ltg. Volker Heinze\n18:15 A Coup Sûr Akustikband\, Ltg. Till Brandt\n19:00 Weekly Update Rhythm&Blues\, Ltg. Till Brandt\n19:45 Wreckers Choice Rock\, Ltg. Till Brandt\n20:30 Soulful Pack Funk’n’Soul\, Ltg. Till Brandt \n\n(english: see below) \nInformationen zu den Preisen\, Karten-Reservierungen und den Öffnungszeiten finden Sie hier.\n\nEintritt frei!\n\n\nwith Jazz bands and ensembles of the Offene Jazz Haus Schule\n \nInformation about prices\, ticket reservations and our opening times can be found here. \nfree admission
URL:https://www.loftkoeln.de/event/jazz-haus-schule-goes-loft-winterfestival-offene-jazz-haus-schule-tag-2-7/
END:VEVENT
END:VCALENDAR