BEGIN:VCALENDAR
VERSION:2.0
PRODID:-//www.loftkoeln.de - ECPv5.14.2.1//NONSGML v1.0//EN
CALSCALE:GREGORIAN
METHOD:PUBLISH
X-WR-CALNAME:www.loftkoeln.de
X-ORIGINAL-URL:https://www.loftkoeln.de
X-WR-CALDESC:Veranstaltungen für www.loftkoeln.de
BEGIN:VTIMEZONE
TZID:UTC
BEGIN:STANDARD
TZOFFSETFROM:+0000
TZOFFSETTO:+0000
TZNAME:UTC
DTSTART:20180101T000000
END:STANDARD
END:VTIMEZONE
BEGIN:VEVENT
DTSTART;TZID=UTC:20181215T150000
DTEND;TZID=UTC:20181215T150000
DTSTAMP:20260423T144316
CREATED:20181102T122737Z
LAST-MODIFIED:20181123T083320Z
UID:9840-1544886000-1544886000@www.loftkoeln.de
SUMMARY:Jazz Haus Schule goes LOFT – Winterfestival Offene Jazz Haus Schule – Tag 1
DESCRIPTION:Es präsentieren sich Jazzbands und Ensembles der Jazz Haus Schule\nEintritt frei !!! \n\nAblaufplan (kurzfristige Änderungen möglich): \n15:30   Changing Colors Jazz\, Ltg. Svenja Doeinck \n16:15   Laiens Club Jazz\, Ltg. Hermann Petervari \n17:00   Guess Who Jazz\, Ltg. Theresia Philipp \n17:45   Jazz up your evening Jazz\, Ltg. Gerit von Stockhausen \n18:30   Groove Connection Jazz\, Ltg. Max Schulze-Hennings \n19:15   Niki Tsaziki and the Döner Horns Jazz\, Ltg. Matthew Halpin \n20:00   Halb-Neun Jazz\, Ltg. Kerstin Körte \n20:45   No Age! Jazz\, Ltg. Martin Kübert
URL:https://www.loftkoeln.de/event/jazz-haus-schule-goes-loft-winterfestival-offene-jazz-haus-schule-tag-1/
END:VEVENT
END:VCALENDAR