BEGIN:VCALENDAR
VERSION:2.0
PRODID:-//www.loftkoeln.de - ECPv5.14.2.1//NONSGML v1.0//EN
CALSCALE:GREGORIAN
METHOD:PUBLISH
X-WR-CALNAME:www.loftkoeln.de
X-ORIGINAL-URL:https://www.loftkoeln.de
X-WR-CALDESC:Veranstaltungen für www.loftkoeln.de
BEGIN:VTIMEZONE
TZID:Europe/Berlin
BEGIN:DAYLIGHT
TZOFFSETFROM:+0100
TZOFFSETTO:+0200
TZNAME:CEST
DTSTART:20250330T010000
END:DAYLIGHT
BEGIN:STANDARD
TZOFFSETFROM:+0200
TZOFFSETTO:+0100
TZNAME:CET
DTSTART:20251026T010000
END:STANDARD
END:VTIMEZONE
BEGIN:VEVENT
DTSTART;TZID=Europe/Berlin:20251213T220000
DTEND;TZID=Europe/Berlin:20251213T220000
DTSTAMP:20260421T174014
CREATED:20251031T144519Z
LAST-MODIFIED:20251213T155551Z
UID:31356-1765663200-1765663200@www.loftkoeln.de
SUMMARY:Jazz Haus Schule goes LOFT – Winterfestival Offene Jazz Haus Schule: Tag 1
DESCRIPTION:Es präsentieren sich Jazzbands und Ensembles der Offenen Jazz Haus Schule: \n12:00 Ukulonia Ukulelenorchester\, Ltg. Sebastian Ellerich\n12:45 Searching the simple Improvisierte Musik\, Ltg. Stefan Schönegg\n13:15 Absolute Fridays Jazz\, Ltg. Simon Below\n14:00 Higher Ground Jazz\, Ltg. Max Schulze-Hennings\n14:45 Blue Note am Mittag Jazz\, Ltg. Maik Krahl\n15:30 Quality Time Jazz\, Ltg. Joachim Lenhardt\n16:15 No Age Jazz\, Ltg. Martin Kübert\n17:00 Sax Pur! Saxofonensemble\, Ltg. Simon Bremen\n17:45 Jazz up your Evening Jazz\, Ltg. Gerit von Stockhausen\n18:30 Jazz op Kölsch Vocalgroup\, Ltg. Nik Grunwald\n19:00 Afro Cuban Combo Ltg. Gerit von Stockhausen\n19:45 Contemporary Jazz Ensemble Jazz\, Ltg. Julian Ritter/Martin Gasser\n20:30 Blue Note Ensemble Jazz\, Ltg. Maik Krahl \n\n(english: see below) \nInformationen zu den Preisen\, Karten-Reservierungen und den Öffnungszeiten finden Sie hier.\n\nEintritt frei!\n\n\nwith Jazz bands and ensembles of the Offene Jazz Haus Schule\n \nInformation about prices\, ticket reservations and our opening times can be found here. \nfree admission
URL:https://www.loftkoeln.de/event/jazz-haus-schule-goes-loft-winterfestival-offene-jazz-haus-schule-tag-1-7/
END:VEVENT
END:VCALENDAR