BEGIN:VCALENDAR
VERSION:2.0
PRODID:-//www.loftkoeln.de - ECPv5.14.2.1//NONSGML v1.0//EN
CALSCALE:GREGORIAN
METHOD:PUBLISH
X-WR-CALNAME:www.loftkoeln.de
X-ORIGINAL-URL:https://www.loftkoeln.de
X-WR-CALDESC:Veranstaltungen für www.loftkoeln.de
BEGIN:VTIMEZONE
TZID:UTC
BEGIN:STANDARD
TZOFFSETFROM:+0000
TZOFFSETTO:+0000
TZNAME:UTC
DTSTART:20170101T000000
END:STANDARD
END:VTIMEZONE
BEGIN:VEVENT
DTSTART;TZID=UTC:20171217T150000
DTEND;TZID=UTC:20171217T150000
DTSTAMP:20260423T143616
CREATED:20171107T114946Z
LAST-MODIFIED:20171107T115033Z
UID:6305-1513522800-1513522800@www.loftkoeln.de
SUMMARY:Jazz Haus Schule goes LOFT – Winterfestival Offene Jazz Haus Schule - Tag 2
DESCRIPTION:Es präsentieren sich Jazzbands und Ensembles der Jazz Haus Schule\nEintritt frei !!!
URL:https://www.loftkoeln.de/event/jazz-haus-schule-goes-loft-%e2%80%93-winterfestival-offene-jazz-haus-schule-tag-2/
END:VEVENT
END:VCALENDAR