BEGIN:VCALENDAR
VERSION:2.0
PRODID:-//www.loftkoeln.de - ECPv5.14.2.1//NONSGML v1.0//EN
CALSCALE:GREGORIAN
METHOD:PUBLISH
X-WR-CALNAME:www.loftkoeln.de
X-ORIGINAL-URL:https://www.loftkoeln.de
X-WR-CALDESC:Veranstaltungen für www.loftkoeln.de
BEGIN:VTIMEZONE
TZID:Europe/Berlin
BEGIN:DAYLIGHT
TZOFFSETFROM:+0100
TZOFFSETTO:+0200
TZNAME:CEST
DTSTART:20070325T010000
END:DAYLIGHT
BEGIN:STANDARD
TZOFFSETFROM:+0200
TZOFFSETTO:+0100
TZNAME:CET
DTSTART:20071028T010000
END:STANDARD
END:VTIMEZONE
BEGIN:VEVENT
DTSTART;TZID=Europe/Berlin:20070119T203000
DTEND;TZID=Europe/Berlin:20070119T203000
DTSTAMP:20260424T114950
CREATED:20220207T103447Z
LAST-MODIFIED:20220210T173714Z
UID:19364-1169238600-1169238600@www.loftkoeln.de
SUMMARY:Jazz am Rhein e.V. und 2nd Floor e.V. präsentiert:  Joost Lijbaart & Wolfert Brederode: One
DESCRIPTION:Joost Lijbaart – drums \nWolfert Brederode – piano \n\n2006 wurde dieses ungewöhnliche Duo gegründet\, vorher hatten sie in einigen Balett Projekten mit Susanne Abbuehl zusammengearbeitet. Der Autor P :F. Thomese bat sie\, für seine Hörbuchfassung des Bestsellers Shadow Child Musik zu scchreiben – das war ein so großer Erfolg\, dass sie seitdem als Duo auftreten. Tomeses schrieb auch die Liner Notes zu dem Debut Album One\, das bei diesem Konzert vorgestellt wird. Joost Lijbaart ist den Kölnern als Schlagzeuger von Frank Wingolds Band Agog bekannt. Wolfert Brederode wird in diesem Jahr seine Debut CD für ECM einspielen und ist in der Szene durch seine Bands Wolfert Brederode Trio und Quintet\, oder Nimbus bekannt
URL:https://www.loftkoeln.de/event/jazz-am-rhein-e-v-und-2nd-floor-e-v-praesentiert-joost-lijbaart-wolfert-brederode-one/
END:VEVENT
END:VCALENDAR