BEGIN:VCALENDAR
VERSION:2.0
PRODID:-//www.loftkoeln.de - ECPv5.14.2.1//NONSGML v1.0//EN
CALSCALE:GREGORIAN
METHOD:PUBLISH
X-WR-CALNAME:www.loftkoeln.de
X-ORIGINAL-URL:https://www.loftkoeln.de
X-WR-CALDESC:Veranstaltungen für www.loftkoeln.de
BEGIN:VTIMEZONE
TZID:UTC
BEGIN:STANDARD
TZOFFSETFROM:+0000
TZOFFSETTO:+0000
TZNAME:UTC
DTSTART:20070101T000000
END:STANDARD
END:VTIMEZONE
BEGIN:VEVENT
DTSTART;TZID=UTC:20070522T203000
DTEND;TZID=UTC:20070522T203000
DTSTAMP:20260422T180825
CREATED:20210719T060454Z
LAST-MODIFIED:20210719T060454Z
UID:17632-1179865800-1179865800@www.loftkoeln.de
SUMMARY:Jazz am Rhein e.V. präsentiert: Trio Nabatov - Reijseger - Rainey
DESCRIPTION:“USA meets Europe”\, 2. Auflage Bonn\, Köln und Düsseldorf in Zusammenarbeit mit dem Amerika Haus Köln \nSimon Nabatov – p\nErnst Reijseger – cello\nTom Rainey – dr \n\nIm Rahmen der in diesem Jahr zum zweiten Mal stattfindenden Reihe “USA meets Europe” in Zusammenarbeit mit dem Amerika Haus in Köln präsentiert Jazz am Rhein e.V. das Zusammentreffen von Musikern aus den USA mit Kollegen aus Europa. \nEine wichtige Rolle spielt in diesem Jahr beim Meeting Simon Nabatov\, der dies schon in seiner Person allein vereinigt: in Moskau geboren\, mit dem Jazz musikalisch aufgewachsen in Moskau\, lebt seit 1989 in Köln\, hat aber noch ein Appartement in New York und dort auch\, wie er sagt „ein Teil seines Herzens“. Er hat mit Tom Rainey kürzlich beim NDR in Hamburg eine neue CD aufgenommen (Steady Now\, Leo Records)\, voller Virtuosität und improvisatorischer Inspiration. Nun gehen beide auf eine Europa Tournee\, die sie unter anderem auch ins Bimhuis nach Amsterdam führt. Dort lebt Nabatovs langjähriger Partner Ernst Reijseger\, den er nun ins Loft einlädt und so aus dem Duo ein Trio macht. Interessant ist\, dass Nabatov mit beiden Musikern schon seit Jahren getrennt voneinander in unterschiedlichen Ensembles spielt\, mit Michael Vatcher\, Mark Helias oder Michael Sarin\, um nur einige zu nennen. Nun ergibt sich eine neue Konstellation\, auf die man gespannt sein darf. \nSeinen im vergangenen Jahr mit viel Freude vollzogenen und vom Publikum ebenso aufgenommenen Ausflug nach Brasilien (Around Brasil\, ACT) bringt Nabatov in das Konzert in Düsseldorf mit ein. \n\nWeitere Termine mit Simon Nabatov: \nMontag 21.5.20.00 Uhr Rheinisches Landesmuseum Bonn\nDuo Simon Nabatov (p) – Tom Rainey (dr) \nMittwoch 23.5. 20.30 Uhr Steinway Haus Heinersdorff Düsseldorf\nDuo Simon Nabatov (p) – Tom Rainey (dr)
URL:https://www.loftkoeln.de/event/jazz-am-rhein-e-v-praesentiert-trio-nabatov-reijseger-rainey/
END:VEVENT
END:VCALENDAR