BEGIN:VCALENDAR
VERSION:2.0
PRODID:-//www.loftkoeln.de - ECPv5.14.2.1//NONSGML v1.0//EN
CALSCALE:GREGORIAN
METHOD:PUBLISH
X-WR-CALNAME:www.loftkoeln.de
X-ORIGINAL-URL:https://www.loftkoeln.de
X-WR-CALDESC:Veranstaltungen für www.loftkoeln.de
BEGIN:VTIMEZONE
TZID:Europe/Berlin
BEGIN:DAYLIGHT
TZOFFSETFROM:+0100
TZOFFSETTO:+0200
TZNAME:CEST
DTSTART:20030330T010000
END:DAYLIGHT
BEGIN:STANDARD
TZOFFSETFROM:+0200
TZOFFSETTO:+0100
TZNAME:CET
DTSTART:20031026T010000
END:STANDARD
END:VTIMEZONE
BEGIN:VEVENT
DTSTART;TZID=Europe/Berlin:20031201T203000
DTEND;TZID=Europe/Berlin:20031201T203000
DTSTAMP:20260424T122558
CREATED:20240331T140855Z
LAST-MODIFIED:20240331T140855Z
UID:26638-1070310600-1070310600@www.loftkoeln.de
SUMMARY:Jazz am Rhein e.V. präsentiert: Antonis Anissegos - Piano Solo
DESCRIPTION: Antonis Anissegos – piano \n\nAntonis Anissegos lebt seit 1998 in Berlin\, nachdem er sein Kompositionsstudium in Köln 1997 abgeschlossen hatte\, und gründete 2001 seine band „amoebas“\, die aus einem größeren kreis von Musikern\, in meist variablen Besetzungen\, besteht. Im Januar 2002 spielten „Antonis Anissegos‘ amoebas“ in Quintettbesetzung im LOFT und nahmen ihre erste cd auf\, die demnächst auf dem Label „Konnex“ erscheinen wird.\nDas Solo Piano-Konzert am 1.12. im Loft gehört zu einer Reihe von Solokonzerten mit dem Titel „take your right side to the left“. Die Musik\, die im Laufe der letzten Jahre entstanden ist\, basiert auf unnotierten und sich stets entwickelnden Kompositionen\, die eine persönliche Sprache zum Ausdruck bringen.
URL:https://www.loftkoeln.de/event/jazz-am-rhein-e-v-praesentiert-antonis-anissegos-piano-solo/
END:VEVENT
END:VCALENDAR