BEGIN:VCALENDAR
VERSION:2.0
PRODID:-//www.loftkoeln.de - ECPv5.14.2.1//NONSGML v1.0//EN
CALSCALE:GREGORIAN
METHOD:PUBLISH
X-WR-CALNAME:www.loftkoeln.de
X-ORIGINAL-URL:https://www.loftkoeln.de
X-WR-CALDESC:Veranstaltungen für www.loftkoeln.de
BEGIN:VTIMEZONE
TZID:UTC
BEGIN:STANDARD
TZOFFSETFROM:+0000
TZOFFSETTO:+0000
TZNAME:UTC
DTSTART:20050101T000000
END:STANDARD
END:VTIMEZONE
BEGIN:VEVENT
DTSTART;TZID=UTC:20050622T203000
DTEND;TZID=UTC:20050622T203000
DTSTAMP:20260423T130610
CREATED:20171124T150637Z
LAST-MODIFIED:20171124T150637Z
UID:6561-1119472200-1119472200@www.loftkoeln.de
SUMMARY:Jazz am Rhein e.V. „Piano“ und 2nd Floor e.V.: Lotte Anker Trio feat. Craig Taborn and Gerald Cleaver
DESCRIPTION:Lotte Anker – sax\nCraig Taborn – piano\nGerald Cleaver – drums \n\n„Lotte Anker repräsentiert den kleinen Kreis der aktuellen freien Improvisierten Musik in Kopenhagen\, spielt aber weltweit meist mit den amerikanischen Stars wie der Pianistin Marilyn Crispell. An deren Stelle ist inzwischen Craig Taborn getreten. Mit seinem vielseitigen und außerordentlich einfühlsamen Spiel zeigte er\, dass er zur Zeit zu Recht einer der gefragtesten Pianisten der New Yorker Szene ist. Gut tut dem Trio auch\, dass er den Schlagzeuger Gerald Cleaver seit den Schultagen kennt. Cleaver\, Meister der leisen Töne\, brilliert mit einem mit Händen und Fingern zelebrierten Schlagzeug-Solo weit jenseits der üblichen Latin-Bongo-Performance. Die kammermusikalische Atmosphäre des Loft veranlasste das Trios schon bei seinem letzten Konzert vor über einem Jahr\, anstelle von strukturierten Titeln siebzig Minuten lang auf freie Weise in suitenartigen Zusammenhängen miteinander zu kommunizieren. Von faszinierenden und zunächst sehr zurückgenommenen Passagen steigerten sich die Drei in zunehmender Spannung hin zu intensiven Klanggemälden. Lotte Ankers lyrisches\, aber auch zupackendes Tenor- und Sopransaxophonspiel dominierte das Geschehen und vermittelte ein inspirierendes musikalisches Erlebnis. So weiß man\, dass man wieder ein großes Ereignis inspirierter Musik erleben kann.“\nH.J.v.O.
URL:https://www.loftkoeln.de/event/jazz-am-rhein-e-v-%e2%80%9epiano%e2%80%9c-und-2nd-floor-e-v-lotte-anker-trio-feat-craig-taborn-and-gerald-cleaver/
END:VEVENT
END:VCALENDAR