BEGIN:VCALENDAR
VERSION:2.0
PRODID:-//www.loftkoeln.de - ECPv5.14.2.1//NONSGML v1.0//EN
CALSCALE:GREGORIAN
METHOD:PUBLISH
X-WR-CALNAME:www.loftkoeln.de
X-ORIGINAL-URL:https://www.loftkoeln.de
X-WR-CALDESC:Veranstaltungen für www.loftkoeln.de
BEGIN:VTIMEZONE
TZID:UTC
BEGIN:STANDARD
TZOFFSETFROM:+0000
TZOFFSETTO:+0000
TZNAME:UTC
DTSTART:20160101T000000
END:STANDARD
END:VTIMEZONE
BEGIN:VEVENT
DTSTART;TZID=UTC:20160415T203000
DTEND;TZID=UTC:20160415T203000
DTSTAMP:20260425T123851
CREATED:20160415T183000Z
LAST-MODIFIED:20170223T121930Z
UID:1028-1460752200-1460752200@www.loftkoeln.de
SUMMARY:JAPANISATION
DESCRIPTION:Tetsu Saitoh – Kontrabass\nNaoki Kita – Violin\nNicola Hein – Gitarre\nSebastian Gramss – Kontrabass \n\nTetsu Saitoh (Kontrabass) kommt mit seinem Duo Partner Naoki Kita nach Deutschland… Tetsu Saitoh – in Europa  u.a. durch seit Zusammenarbeit mit Barre Phillips\, Michel Doneda\, Jean Laurent Aasportes und Le Quan Ninh bekannt – gehört seit Jahrzehnten zur etablierten Tokyo Improvisor Szene. Er spielt seit Jahren mit Naoki Kita in versch. Projekten. Jetzt sind die beiden wundersamen Musiker erstmals im Loft und treffen hier auf mindestens genauso wundersame Kölner Kollegen…. \n\n\n\nTetsu(cb) and Naoki(vl) have been playing together for 5 years.\nThey played with many kinds of artists like Jean Laurent Sasportes (dancer)\, Kazue Sawai (traditional koto player)\, Roger Turner (drums )\, Barre Phillips (cb)\, Sebastian Gramss (cb)\, Xavier Charles (cl)\, Shunichiro Hisada (Noh theater)\, Kang unil (Korean traditional musician)\, Sogen Hirano (calligrapher )\, Yuji Kobayashi (painter) among others.\nAlso they play Tetsu’s compositions\, songs\, tango\, Brazilian music.
URL:https://www.loftkoeln.de/event/japanisation/
END:VEVENT
END:VCALENDAR