BEGIN:VCALENDAR
VERSION:2.0
PRODID:-//www.loftkoeln.de - ECPv5.14.2.1//NONSGML v1.0//EN
CALSCALE:GREGORIAN
METHOD:PUBLISH
X-WR-CALNAME:www.loftkoeln.de
X-ORIGINAL-URL:https://www.loftkoeln.de
X-WR-CALDESC:Veranstaltungen für www.loftkoeln.de
BEGIN:VTIMEZONE
TZID:Europe/Berlin
BEGIN:DAYLIGHT
TZOFFSETFROM:+0100
TZOFFSETTO:+0200
TZNAME:CEST
DTSTART:20220327T010000
END:DAYLIGHT
BEGIN:STANDARD
TZOFFSETFROM:+0200
TZOFFSETTO:+0100
TZNAME:CET
DTSTART:20221030T010000
END:STANDARD
END:VTIMEZONE
BEGIN:VEVENT
DTSTART;TZID=Europe/Berlin:20221124T203000
DTEND;TZID=Europe/Berlin:20221124T203000
DTSTAMP:20260422T111423
CREATED:20221004T122138Z
LAST-MODIFIED:20230117T094634Z
UID:21894-1669321800-1669321800@www.loftkoeln.de
SUMMARY:Janning Trumann 4 feat. Brandon Seabrook | live recording & livestream
DESCRIPTION:Janning Trumann – Posaune & Effekte\nLucas Leidinger – Piano & Synthesizer\nFlorian Herzog – Bass & Effekte\nThomas Sauerborn – Schlagzeug \nspecial guest: Brandon Seabrook – Gitarre \n\n\n(english: see below) \nInformationen zu den Preisen\, Karten-Reservierungen und den Öffnungszeiten finden Sie hier.\n\nJT4 © Patrick Essex ; B. Seabrook © Reuben Radding\n„Eine Band\, die sich durch jahrelange Zusammenarbeit blind versteht„.  So berichtete kürzlich WDR3 Jazz über das Zusammenspiel des Kölner Quartetts JT4. Mit ihm spielt Janning Trumann einen ebenso poetisch packenden wie kraftvoll fließenden Jazz. Anregend komplex und zugleich mit magnetischen Melodien ausgestattet\, expressiv und dabei doch immer klare\, musikalische Aussagen treffend. Besondere Rollen im Zusammenklang und der Klangentwicklung spielen zusätzlich die analogen Effekte und der Synthesizer. So entfaltet Janning Trumann gemeinsam mit Lucas Leidinger\, Florian Herzog und Thomas Sauerborn eine enorme\, tiefenwirksame Energie.\nKürzlich ist das neue Album Roots & Riots auf Tangible Music erschienen. \nFür das Konzert im LOFT erweitern sie das Quartett um eine starke Stimme aus den USA. Der Gitarrist Brandon Seabrook ist seit Jahren eine feste und etablierte Institution der New Yorker Szene für Jazz und Improvisierte Musik und tourt international u.a. mit Gerald Cleaver\, Tony Malaby oder Eivind Opsvik. Er verleiht dem ohnehin schon elektrisch verstärktem Quartett eine weitere Stimme und öffnet eine weitere rhythmische Ebene. Wir können gespannt sein auf einen Abend voller Energie und Überraschungen! \nhttps://www.brandonseabrook.com/ \nwww.janningtrumann.com \n\n\n\nJanning Trumann – trombone & effects\nLucas Leidinger – piano & synthesizer\nFlorian Herzog – bass & effects\nThomas Sauerborn – drums \nspecial guest: Brandon Seabrook – guitar \nInformation about prices\, ticket reservations and our opening times can be found here.\n„A band that understand each other blindly through years of collaboration„.  This is how WDR3 Jazz recently reported on the interplay of the Cologne quartet JT4. With him\, Janning Trumann plays jazz that is as poetically gripping as it is powerfully flowing. Stimulatingly complex and at the same time endowed with magnetic melodies\, expressive and yet always hitting clear\, musical statements. In addition\, the analog effects and the synthesizer play special roles in the harmony and sound development. Thus Janning Trumann\, together with Lucas Leidinger\, Florian Herzog and Thomas Sauerborn\, unfolds an enormous\, deeply effective energy. \nFor the concert at LOFT they expand the quartet with a strong voice from the USA. Guitarist Brandon Seabrook has been a firm and established institution on the New York jazz and improvised music scene for years and tours internationally with Gerald Cleaver\, Tony Malaby and Eivind Opsvik\, among others. He adds another voice to the already electrically amplified quartet and opens up another rhythmic level. We can look forward to an evening full of energy and surprises!
URL:https://www.loftkoeln.de/event/janning-trumann-4-feat-brandon-seabrook-live-recording/
END:VEVENT
END:VCALENDAR