BEGIN:VCALENDAR
VERSION:2.0
PRODID:-//www.loftkoeln.de - ECPv5.14.2.1//NONSGML v1.0//EN
CALSCALE:GREGORIAN
METHOD:PUBLISH
X-WR-CALNAME:www.loftkoeln.de
X-ORIGINAL-URL:https://www.loftkoeln.de
X-WR-CALDESC:Veranstaltungen für www.loftkoeln.de
BEGIN:VTIMEZONE
TZID:UTC
BEGIN:STANDARD
TZOFFSETFROM:+0000
TZOFFSETTO:+0000
TZNAME:UTC
DTSTART:20180101T000000
END:STANDARD
END:VTIMEZONE
BEGIN:VEVENT
DTSTART;TZID=UTC:20180112T203000
DTEND;TZID=UTC:20180112T203000
DTSTAMP:20260420T182236
CREATED:20171112T164253Z
LAST-MODIFIED:20171112T164253Z
UID:6366-1515789000-1515789000@www.loftkoeln.de
SUMMARY:Jan Philipp Trio
DESCRIPTION:Tobias Hoffmann – Gitarre\nDavid Helm – Bass   \nJan Philipp – Schlagzeug \n\nAuf den Feldern des Folk und Jazz erkundet das Trio mit eigenen Kompositionen Wege\, die gesäumt sind von geerdeten Melodien und wohligem Klang. \nKitsch und Genrebruch gehen hier Hand in Hand spazieren\, wenn die drei Musiker ihre Songs auf der Suche nach etwas neuem durchstreifen. Unterwegs trifft man auf strohige Improvisationen voller Staub und Dreck\, ein paar Schritte weiter schon fließen glasklare\, schillernde Country-Balladen. \nInspiriert von Gitarren-Legenden á la Bill Frisell und Songwriter-Helden wie George Harrison und Van Morisson zelebriert das Trio seine eigene\, zu gleichen Teilen verschrobene wie genrewandernde Musik.
URL:https://www.loftkoeln.de/event/jan-philipp-trio/
END:VEVENT
END:VCALENDAR