BEGIN:VCALENDAR
VERSION:2.0
PRODID:-//www.loftkoeln.de - ECPv5.14.2.1//NONSGML v1.0//EN
CALSCALE:GREGORIAN
METHOD:PUBLISH
X-WR-CALNAME:www.loftkoeln.de
X-ORIGINAL-URL:https://www.loftkoeln.de
X-WR-CALDESC:Veranstaltungen für www.loftkoeln.de
BEGIN:VTIMEZONE
TZID:Europe/Berlin
BEGIN:DAYLIGHT
TZOFFSETFROM:+0100
TZOFFSETTO:+0200
TZNAME:CEST
DTSTART:20060326T010000
END:DAYLIGHT
BEGIN:STANDARD
TZOFFSETFROM:+0200
TZOFFSETTO:+0100
TZNAME:CET
DTSTART:20061029T010000
END:STANDARD
END:VTIMEZONE
BEGIN:VEVENT
DTSTART;TZID=Europe/Berlin:20061117T203000
DTEND;TZID=Europe/Berlin:20061117T203000
DTSTAMP:20260423T124302
CREATED:20220207T113432Z
LAST-MODIFIED:20220210T173350Z
UID:19424-1163795400-1163795400@www.loftkoeln.de
SUMMARY:JAMES CHOICE ORCHESTRA IX
DESCRIPTION:Thomas Heberer – trp. \nMatthias Mainz – trp. \nUdo Moll – trp. \nStefan Meinberg – trp.\nMatthias Muche – trb. \nNikolao Valiensi – trb \nCarl Ludwig Hübsch – tuba\,comp.\nFrank Gratkowski – as.\,cl.\, comp. \nMatthias Schubert – ts.\, comp. \nNorbert Stein – ts.\, comp.\nNiels Klein – ts. \nAnnette Maye – cl.\, bcl. \nRadek Stawarz – viol. \nSue Schlotte – cello\nSebastian Gramss – bass \nDieter Manderscheidt – bass \nIsis Krüger – voice \nPhilip Zoubek – piano Tom Lorenz – vibr. \nScott Fields – guit. \nThomas Lehn – synth. \n Joe Hertenstein – drums \n\nZum 9. Mal spielt die Groß Besetzung um die 4 musikalischen Leiter und Komponisten Gratkowski\, Hübsch\, Schubert und Stein\, eine Kontinuität die sich sehen aber vor allem hören lassen kann. Und die erste CD wird auch präsentiert- Life beim Loft Projekt des Moerser Festivals 2005 aufgenommen.
URL:https://www.loftkoeln.de/event/james-choice-orchestra-ix/
END:VEVENT
END:VCALENDAR