BEGIN:VCALENDAR
VERSION:2.0
PRODID:-//www.loftkoeln.de - ECPv5.14.2.1//NONSGML v1.0//EN
CALSCALE:GREGORIAN
METHOD:PUBLISH
X-WR-CALNAME:www.loftkoeln.de
X-ORIGINAL-URL:https://www.loftkoeln.de
X-WR-CALDESC:Veranstaltungen für www.loftkoeln.de
BEGIN:VTIMEZONE
TZID:Europe/Berlin
BEGIN:DAYLIGHT
TZOFFSETFROM:+0100
TZOFFSETTO:+0200
TZNAME:CEST
DTSTART:20240331T010000
END:DAYLIGHT
BEGIN:STANDARD
TZOFFSETFROM:+0200
TZOFFSETTO:+0100
TZNAME:CET
DTSTART:20241027T010000
END:STANDARD
END:VTIMEZONE
BEGIN:VEVENT
DTSTART;TZID=Europe/Berlin:20240419T200000
DTEND;TZID=Europe/Berlin:20240419T200000
DTSTAMP:20260423T123238
CREATED:20240305T160329Z
LAST-MODIFIED:20240307T122802Z
UID:26438-1713556800-1713556800@www.loftkoeln.de
SUMMARY:JAGDKLANG
DESCRIPTION:Vesna Pisarović – Stimme\nTobias Delius – Tenorsaxophon\nGerhard Gschlößl – Posaune\nJoe Hertenstein – Schlagzeug \n\n(english: see below) \nAb Januar 2024 beginnen alle Konzerte im LOFT um 20.00 Uhr.\nAusnahmen – z.B. Sonntags – sind möglich.\nWeitere Informationen zu den Preisen\, Karten-Reservierungen und den Öffnungszeiten finden Sie hier.\nJagdklang (vlnr): Pisarović\, Delius\, Gschlößl\, Hertenstein\n„Es ist das Zufällige\, das uns die Existenz von Tag zu Tag offenbart“\nGeorges Braque \nJagdklang: auf der Suche nach Klängen sein\, ihnen nachjagen und sie jagen\, anstatt über ihre Entfaltung oder Anordnung nachzudenken oder sie im Voraus zu bedenken. Denn die musikalische Improvisation wird von der Spannung der Begegnung mit dem Ungewissen angetrieben\, statt auf gesicherten Vorrichtungen zu beruhen.\nDas sind die Prämissen für das Zusammentreffen der vier Berliner Improvisator*innen. Und wenn die Jagdsaison nicht ganz im Freien stattfindet\, ist es die Musik von Steve Lacy\, die hier den Anstoß für eine Öffnung der musikalischen und klanglichen Möglichkeiten gibt. \n\nvesnapisarovic.me\n\njoehertenstein.com\n\ngerhardgschloessl.de\n\nhttps://en.wikipedia.org/wiki/Tobias_Delius\n\nVesna Pisarović – voice\nTobias Delius – tenor saxophone\nGerhard Gschlößl – trombone\nJoe Hertenstein – drums \nFrom January 2024 on\, the concerts at the LOFT start round 8.00 pm\nExceptions – e.g. on Sundays – are possible.\nFurther information about prices\, ticket reservations and our opening times can be found here. \n„It’s the chance happening that reveals to us day to day existence” \nGeorges Braque \nJagdklang – or Hunt-Sound: being on the lookout for sounds\, chasing and hunting them\, rather than contemplating or premeditating their unfolding or arrangement. For musical improvisation is driven by the excitement of encounters with uncertainty\, rather being founded upon assured devices. Such are the premises for this gathering of the four Berlin-based improvisers. And when the hunting season is not entirely in the open\, it is the music of Steve Lacy which here provides the impetus for an opening of musical and sonic possibilities. \nvesnapisarovic.me\n\njoehertenstein.com\n\ngerhardgschloessl.de\n\nhttps://en.wikipedia.org/wiki/Tobias_Delius
URL:https://www.loftkoeln.de/event/jagdklang/
END:VEVENT
END:VCALENDAR