BEGIN:VCALENDAR
VERSION:2.0
PRODID:-//www.loftkoeln.de - ECPv5.14.2.1//NONSGML v1.0//EN
CALSCALE:GREGORIAN
METHOD:PUBLISH
X-WR-CALNAME:www.loftkoeln.de
X-ORIGINAL-URL:https://www.loftkoeln.de
X-WR-CALDESC:Veranstaltungen für www.loftkoeln.de
BEGIN:VTIMEZONE
TZID:Europe/Berlin
BEGIN:DAYLIGHT
TZOFFSETFROM:+0100
TZOFFSETTO:+0200
TZNAME:CEST
DTSTART:20250330T010000
END:DAYLIGHT
BEGIN:STANDARD
TZOFFSETFROM:+0200
TZOFFSETTO:+0100
TZNAME:CET
DTSTART:20251026T010000
END:STANDARD
END:VTIMEZONE
BEGIN:VEVENT
DTSTART;TZID=Europe/Berlin:20250527T190000
DTEND;TZID=Europe/Berlin:20250527T190000
DTSTAMP:20260424T105106
CREATED:20250314T095852Z
LAST-MODIFIED:20250516T064728Z
UID:29274-1748372400-1748372400@www.loftkoeln.de
SUMMARY:Intakt Records präsentiert: Lucas Niggli & Sylvie Courvoisier | Anna Webber simpletrio2000 | live recording
DESCRIPTION:Lucas Niggli – Schlagzeug\nSylvie Courvoisier – Piano \nAnna Webber simpletrio2000:\nAnna Webber – Saxophon & Komposition\nMatt Mitchell – Piano\nJohn Hollenbeck – Schlagzeug \n\n(english: see below) \nWeitere Informationen zu den Preisen\, Karten-Reservierungen und den Öffnungszeiten finden Sie hier.\n\nPatrik Landolt © Dominque Meienberg\nAnlässlich der Verleihung des Ehrenpreises der Deutschen Schallplattenkritik an Patrik Landolt ist das Schweizer Intakt Label\, welches Patrik fast 40 Jahre geleitet und geprägt hat\, zu Gast im LOFT:\n„Deshalb wünschte ich mir zur Preisverleihung ein Fest aktueller Jazzmusik.“ PL\nWir freuen uns auf drei wunderbare Abende mit hochkarätigster Musik aus dem großartigen Intakt-Katalog. \nhttps://www.intaktrec.ch/PatrikLandolt.htm \n\n19:00 – Gespräch über Musikproduktion\nWelche Rolle spielt heute ein CD-Label für den Jazz und die Musiker*innen? Welche Überlebensstrategien hat eine professionelle Musikproduktion in Zeiten von Downloads\, Streaming und Do-it-yourself?\nEin Gespräch mit Florian Keller\, Patrik Landolt (Intakt Records) und Bert Noglik (Jazzkritiker). Moderiert von Julia Kaiser (PdSK e.V). \nDie Konzerte starten nach einer kurzen Pause im Anschluss an das Gespräch. \n\nSylvie Courvoisier & Lucas Niggli © Birgit Berchtold\nErstmals tourte das Schweizer Duo Lucas Niggli und Sylvie Courvoisier vor 25 Jahren. Ihr Album nannten sie nach dem kleinen Dorf Lavin in den Schweizer Bergen\, wo das Publikum trotz Lawinengefahr an ihr Konzert kam und spontan ein Fest veranstaltete. Es folgten weitere Konzerte mit Fred Frith und Urs Leimgruber. Dann gingen die beiden\, wie so oft im Jazz\, ihre eigenen Wege. Am Memorial Festival von Irène Schweizer 2024 in Zürich spielten Niggli und Courvoisier nach 25 Jahren erstmals wieder zusammen. Und wie die Funken sprühten! \nhttps://www.sylviecourvoisier.com/ \nhttps://lucasniggli.com/de \n\nAnna Webber Simple Trio © Des White\nIn der Überschneidung von Avantgarde-Jazz und neuer klassischer Musik wird Anna Webbers Schaffen als visionär und fesselnd gefeiert: als Saxofonistin\, Flötistin\, Komponistin und Bandleaderin. Das Simple Trio ist ihre am längsten bestehende Band. Das Trio verwebt auf höchstem Niveau Komposition mit Improvisation und Groove. Die nicht zu überhörende Komplexität der Musik wird von einer stürmischen Fröhlichkeit und Abenteuerlust begleitet\, geprägt von einer «durchgehend süchtig machenden Energie» im Zusammenspiel. Peter Margasak \nhttps://www.annakristinwebber.com/ \nhttp://www.mattmitchell.us/ \nhttps://johnhollenbeck.com/ \n\nEine Koproduktion von Intakt Records\, dem LOFT\, dem Verein Freund*innen von Irène Schweizer und dem Preis der Deutschen Schallplattenkritik \nhttps://www.intaktrec.ch/ \nhttps://www.friendsofireneschweizer.com/ \nhttp://www.schallplattenkritik.de/ \n\n\n\n\nLucas Niggli – drums\nSylvie Courvoisier – piano\n\n  \nAnna Webber simpletrio2000:\nAnna Webber – saxophone & composition\nMatt Mitchell – piano\nJohn Hollenbeck – drums \n\nFurther information about prices\, ticket reservations and our opening times can be found here. \nOn the occasion of Patrik Landolt receiving the German Record Critics‘ Award\, the Swiss Intakt label\, which Patrik has managed and shaped for almost 40 years\, will be a guest at LOFT: „That’s why I wanted the award ceremony to be a celebration of contemporary jazz music. „ PL\nWe are looking forward to three wonderful evenings with top-class music from the great Intakt catalog. \n\n19:00 – Discussion about music production\nWhat role does a CD label play for jazz and musicians today? What survival strategies does professional music production have in times of downloads\, streaming and do-it-yourself?\nA discussion with Florian Keller\, Patrik Landolt (Intakt Records) and Bert Noglik (Jazz Critic). Moderated by Julia Kaiser (PdSK e.V.). \nThe concerts start after a short break following the talk. \n\nThe Swiss duo Lucas Niggli and Sylvie Courvoisier toured for the first time 25 years ago. They named their album after the small village of Lavin in the Swiss mountains\, where the audience came to their concert despite the risk of avalanches and spontaneously organised a party. Further concerts with Fred Frith and Urs Leimgruber followed. Then\, as is so often the case in jazz\, the two went their own ways. At the 2024 Irène Schweizer Memorial Festival in Zurich\, Niggli and Courvoisier played together again for the first time in 25 years. And how the sparks flew! \n\nAt the intersection of avant-garde jazz and new classical music\, Anna Webber’s work is celebrated as visionary and captivating: as saxophonist\, flutist\, composer and bandleader. The Simple Trio is her longest-running band. The trio interweaves composition with improvisation and groove at the highest level. The music’s complexity\, which cannot be ignored\, is accompanied by a tempestuous cheerfulness and adventurousness\, characterised by a ‘consistently addictive energy’ when playing together. Peter Margasak
URL:https://www.loftkoeln.de/event/intakt-records-praesentiert-lucas-niggli-sylvie-courvoisier-anna-webber-simpletrio2000-live-recording/
END:VEVENT
END:VCALENDAR