BEGIN:VCALENDAR
VERSION:2.0
PRODID:-//www.loftkoeln.de - ECPv5.14.2.1//NONSGML v1.0//EN
CALSCALE:GREGORIAN
METHOD:PUBLISH
X-WR-CALNAME:www.loftkoeln.de
X-ORIGINAL-URL:https://www.loftkoeln.de
X-WR-CALDESC:Veranstaltungen für www.loftkoeln.de
BEGIN:VTIMEZONE
TZID:UTC
BEGIN:STANDARD
TZOFFSETFROM:+0000
TZOFFSETTO:+0000
TZNAME:UTC
DTSTART:20090101T000000
END:STANDARD
END:VTIMEZONE
BEGIN:VEVENT
DTSTART;TZID=UTC:20091118T203000
DTEND;TZID=UTC:20091118T203000
DTSTAMP:20260422T231800
CREATED:20171031T103218Z
LAST-MODIFIED:20171031T103218Z
UID:6251-1258576200-1258576200@www.loftkoeln.de
SUMMARY:Ingrid Laubrock’s Sleepthief
DESCRIPTION:Ingrid Laubrock – sax.\nLiam Noble – piano\nTom Rainey – drums \n\nIn diesem Jahr erhielt die deutsche Saxophonistin und Wahl-Londonerin Ingrid Laubrock den SWR Jazzpreis und damit einen der renommiertesten im Land. Zum 2. Mal ist sie mit ihrem Trio SLEEPTHIEF im Loft zusammen mit dem renommierten britischen Pianisten Liam Noble und einem der besten New Yorker Jazzdrummer\, Tom Rainey zu Gast – heraus kommt dabei eine aufregende Form improvisierter Jazzmusik. In den letzten Jahren hat sich Ingrid Laubrock mehr und mehr ins Rampenlicht der aktuellen Musikszene gespielt – mit einem Jazz\, der auf kühne Weise modern ist und doch fest in der Tradition steht. Die Musik ihres Trios Sleepthief ist aus dem Augenblick heraus erfunden\, doch scheint das Formbewusstsein der Komponisten hier die freien Improvisationen zu leiten. Im Münsterland in einer musikalischen Familie aufgewachsen\, machte sich Ingrid Laubrock gleich nach dem Schulabschluss auf und davon – erst nach Berlin\, dann nach London\, wo sie blieb. Jean Toussaint war ihr erster Saxophon-Lehrer. Ein Lehrbuch von David Liebman brachte Laubrock in die USA\, wo sie eine Meisterklasse beim Miles-Davis-Saxofonisten absolvierte. Der Eindruck war überwältigend. Laubrock legte eine längere Auszeit ein\, um zu üben und die neuen Impulse zu verarbeiten. Ein einjähriges Jazzstudium schloss sich an. Die Polystilistik des Jazz der 1990er Jahre prägte Laubrocks musikalisches Weltbild. „Man muss aufnahmebereit sein\, alle Sensoren auf Empfang schalten\, um Partikel davon in abstrahierter Form beim Improvisieren wieder auszuspucken“\, sagt Laubrock. Mit ihrem Trio Sleepthief folgt sie dieser Maxime.
URL:https://www.loftkoeln.de/event/ingrid-laubrock%e2%80%99s-sleepthief/
END:VEVENT
END:VCALENDAR