BEGIN:VCALENDAR
VERSION:2.0
PRODID:-//www.loftkoeln.de - ECPv5.14.2.1//NONSGML v1.0//EN
CALSCALE:GREGORIAN
METHOD:PUBLISH
X-WR-CALNAME:www.loftkoeln.de
X-ORIGINAL-URL:https://www.loftkoeln.de
X-WR-CALDESC:Veranstaltungen für www.loftkoeln.de
BEGIN:VTIMEZONE
TZID:UTC
BEGIN:STANDARD
TZOFFSETFROM:+0000
TZOFFSETTO:+0000
TZNAME:UTC
DTSTART:20120101T000000
END:STANDARD
END:VTIMEZONE
BEGIN:VEVENT
DTSTART;TZID=UTC:20120420T203000
DTEND;TZID=UTC:20120420T203000
DTSTAMP:20260424T153210
CREATED:20171019T064807Z
LAST-MODIFIED:20171019T064807Z
UID:5635-1334953800-1334953800@www.loftkoeln.de
SUMMARY:HÜTTE: CD Präsentation
DESCRIPTION:Johannes Schleiermacher – sax.\nTobias Hoffmann – guit\nAndreas Lang – bass\nMax Andrzejewski – drums  \n\nKrumm und schief sei seine Behausung\, sagen die Leute. Auf Krawall gebürstet sei er. Schließ die Tür hinter dir\, sagt der Hüttenbewohner. Kommt alle herein\, es wird gefeiert. Zündelt ein bisschen\, aber jedenfalls diesen Abend sollte sie überleben. Warm genug wird es allemal. Die Band beginnt. Und wie. Es wird gezündelt was das Zeug hält. Es kracht und knarzt im Gebälk. Die wohlhabenden Nachbarn beschweren sich\, sind nur neidisch auf die wahren Gefühle – Wut und Widerstand\, Blues\, Freiheit\, Versöhnung\, das Glück\, wenn sich alle in den Armen liegen. Und am Ende brennt sie doch noch. \nDas Debüt-Album der Band HÜTTE (Veröffentlichung am 13. April 2012) vereint vier der interessantesten jungen Musiker aus Berlin und Köln. Die Stücke sind voll unerwarteter Wendungen\, kantiger und wohlig runder Ecken. Andrzejewski´s  Melodien bleiben trotz Verschrobenheit im Ohr. Jeder Musiker kann seinen eigenen Freiheitsdrang innerhalb der komponierten Strukturen voll ausleben. So brennt sie\, die Hütte.
URL:https://www.loftkoeln.de/event/hutte-cd-prasentation/
END:VEVENT
END:VCALENDAR