BEGIN:VCALENDAR
VERSION:2.0
PRODID:-//www.loftkoeln.de - ECPv5.14.2.1//NONSGML v1.0//EN
CALSCALE:GREGORIAN
METHOD:PUBLISH
X-WR-CALNAME:www.loftkoeln.de
X-ORIGINAL-URL:https://www.loftkoeln.de
X-WR-CALDESC:Veranstaltungen für www.loftkoeln.de
BEGIN:VTIMEZONE
TZID:Europe/Berlin
BEGIN:DAYLIGHT
TZOFFSETFROM:+0100
TZOFFSETTO:+0200
TZNAME:CEST
DTSTART:20220327T010000
END:DAYLIGHT
BEGIN:STANDARD
TZOFFSETFROM:+0200
TZOFFSETTO:+0100
TZNAME:CET
DTSTART:20221030T010000
END:STANDARD
END:VTIMEZONE
BEGIN:VEVENT
DTSTART;TZID=Europe/Berlin:20220522T203000
DTEND;TZID=Europe/Berlin:20220522T203000
DTSTAMP:20260424T135803
CREATED:20220404T085647Z
LAST-MODIFIED:20220509T111830Z
UID:20118-1653251400-1653251400@www.loftkoeln.de
SUMMARY:Huhn Schultze Duo | live recording
DESCRIPTION:Leonhard Huhn – Reeds\nStefan Schultze – Piano \n\n(english: see below) \nInformationen zu Konzerten während der Corona-Pandemie finden Sie hier\, Informationen zu den Preisen\, Karten-Reservierungen und den Öffnungszeiten finden Sie hier.\nStefan Schultze (right) © Dovile Sermokas\nStefan Schultze und Leonhard Huhn arbeiten seit ca. 3 Jahren im Stefan Schultze Large Ensemble zusammen. Das Konzert soll den ersten Rahmen für weitere Explorationen im Duo geben. Die beiden freuen sich auf einen Abend voller ungeahnter Klänge und spontaner Musik. \nhttp://www.leonhardhuhn.de/ \nhttps://stefanschultze.com/ \n\nLeonhard Huhn – Reeds\nStefan Schultze – Piano \nPlease read our infos concerning concerts with an audience during the Corona pandemic here. Information about prices\, ticket reservations and our opening times can be found here. \n\nStefan Schultze and Leonhard Huhn have been working together in the Stefan Schultze Large Ensemble for about three years. The concert is intended to provide the first framework for further explorations as a duo. The two are looking forward to an evening full of unexpected sounds and spontaneous music.
URL:https://www.loftkoeln.de/event/huhn-schultze-duo-live-recording/
END:VEVENT
END:VCALENDAR