BEGIN:VCALENDAR
VERSION:2.0
PRODID:-//www.loftkoeln.de - ECPv5.14.2.1//NONSGML v1.0//EN
CALSCALE:GREGORIAN
METHOD:PUBLISH
X-WR-CALNAME:www.loftkoeln.de
X-ORIGINAL-URL:https://www.loftkoeln.de
X-WR-CALDESC:Veranstaltungen für www.loftkoeln.de
BEGIN:VTIMEZONE
TZID:UTC
BEGIN:STANDARD
TZOFFSETFROM:+0000
TZOFFSETTO:+0000
TZNAME:UTC
DTSTART:20120101T000000
END:STANDARD
END:VTIMEZONE
BEGIN:VEVENT
DTSTART;TZID=UTC:20121216T193000
DTEND;TZID=UTC:20121216T193000
DTSTAMP:20260421T155347
CREATED:20171010T134442Z
LAST-MODIFIED:20171010T134442Z
UID:5406-1355686200-1355686200@www.loftkoeln.de
SUMMARY:Holger Edmaier - Musikkabarett : „schlachreif“
DESCRIPTION:Holger Edmaier\nNicolas Evertsbusch – Piano \n\nLife CD Aufnahme mit dem Besten aus 13 Jahren \nNach dreizehn Jahren große Häuser und kleinste Kaschemmen\, nach acht Programmen und diversen Kleinkunstpreisen wird es für Holger Edmaier Zeit für ein best-of  Konzert!  Lieder zwischen Deutsch-Pop und Chanson: Die entgleisten Geliebten\, entfernten Verwandten und handbelesenen Wegelagerer\, die Versucher und Erfinder\, die zugigen Bekanntschaften\, offenen Bücher und geschlossenen Beine. Ein Konzert der leisen und lauten Töne: Da treffen Nachtgestalten\, Vampire\, Bullen und Heiratsschwindler auf Gogotänzerinnen\, Moorleichen\, Zahnärzte und Schlagerstars – das Leben gesellt sich hinzu. Holger Edmaier präsentiert seine schönsten\, lustigsten\, schrägsten\, albernsten\, skurrilsten\, kurz: seine Liebes- und Lieblingslieder der letzten 13 Jahre – am Klavier begleitet von Nicolas Evertsbusch. \nAchtung: Eintritt: 12.-€uro\n \n 
URL:https://www.loftkoeln.de/event/holger-edmaier-musikkabarett-%e2%80%9eschlachreif%e2%80%9c/
END:VEVENT
END:VCALENDAR