BEGIN:VCALENDAR
VERSION:2.0
PRODID:-//www.loftkoeln.de - ECPv5.14.2.1//NONSGML v1.0//EN
CALSCALE:GREGORIAN
METHOD:PUBLISH
X-WR-CALNAME:www.loftkoeln.de
X-ORIGINAL-URL:https://www.loftkoeln.de
X-WR-CALDESC:Veranstaltungen für www.loftkoeln.de
BEGIN:VTIMEZONE
TZID:UTC
BEGIN:STANDARD
TZOFFSETFROM:+0000
TZOFFSETTO:+0000
TZNAME:UTC
DTSTART:20170101T000000
END:STANDARD
END:VTIMEZONE
BEGIN:VEVENT
DTSTART;TZID=UTC:20170108T203000
DTEND;TZID=UTC:20170108T203000
DTSTAMP:20260424T134353
CREATED:20161130T145959Z
LAST-MODIFIED:20161229T083054Z
UID:2285-1483907400-1483907400@www.loftkoeln.de
SUMMARY:Hochhäuser
DESCRIPTION:Matthias Petzold – sax\nJan Klinkenberg – keyb\nStefan Rey – bass\nThomas Esch – dr \n\nWorld Tour steht als Titel über dem neuen Programm von „Hochhäuser“\, der Band des Saxophonisten und Komponisten Matthias Petzold. Einflüsse grooveorientierter Musik aus unterschiedlichen Weltgegenden und Musikstilen verbinden sich zu einem spannenden und eigenständigen Gesamtsound. Im Loft präsentiert die Band ihre neue CD gleichen Namens. Als „Zweigenerationenprojekt“ verbindet das Quartett die Erfahrung und den weiten kompositorischen Horizont Petzolds mit der Dynamik und Neugierde der jungen Musiker Jan Klinkenberg (keyb)\, Stefan Rey (bass) und Thomas Esch (dr). \nEine wesentliche Rolle im Klang der Band spielt die Integration live abgemischter analoger Klänge unterschiedlichster Herkunft in die Musik. Es entstehen improvisatorische Interaktionen\, Überlagerungen und suggestive Klangbilder\, die immer neue und unvorhersehbare Formen annehmen. Die Sounds stammen u.a. aus Uganda\, aus einem Weinkeller an der Nahe und und von einem obskuren italienischen Analog-Synthesizer aus den 70er Jahren. \nWeitere Informationen und Musikbeispiele gibt es unter: www.hochhaeuser-jazz.de \n\nDas Jazzpodium schreibt (3/2016) \n„Wie bei allen früheren Aufnahmen hat Petzold auch hier mit seinen originellen und sympathischen Kompositionen einmal mehr ein Stück groovenden und hochintelligenten Mainstream Jazz abgeliefert\, der einem hohen Qualitätsanspruch genügt\, ohne Travestien oder aufgesetzte Klischees\, eine Musik die authentisch und ehrlich klingt und der man anmerkt\, dass sie von ihrem Schöpfer auch wirklich so empfunden wurde.\nPetzolds Improvisationen sind Zuhör-Improvisationen\, die ohne Redundanzen auskommen und deren innere Entwicklungslogik immer nachvollziehbar ist. Er präsentiert sein Spiel mit sehr direkter Ansprache mit manchmal leicht verschlepptem Beat\, was seinen Improvisationen noch mehr Spannung und ein bisschen Dreistigkeit\, aber niemals Aggressivität beisteuert. Und die hervorragend eingespielte Band tut ihr Übriges zum Gelingen dieser Aufnahme – Matthias Petzold hätte wahrlich einen höheren Bekanntheitsgrad verdient.”
URL:https://www.loftkoeln.de/event/hochhauser/
END:VEVENT
END:VCALENDAR