BEGIN:VCALENDAR
VERSION:2.0
PRODID:-//www.loftkoeln.de - ECPv5.14.2.1//NONSGML v1.0//EN
CALSCALE:GREGORIAN
METHOD:PUBLISH
X-WR-CALNAME:www.loftkoeln.de
X-ORIGINAL-URL:https://www.loftkoeln.de
X-WR-CALDESC:Veranstaltungen für www.loftkoeln.de
BEGIN:VTIMEZONE
TZID:Europe/Berlin
BEGIN:DAYLIGHT
TZOFFSETFROM:+0100
TZOFFSETTO:+0200
TZNAME:CEST
DTSTART:20250330T010000
END:DAYLIGHT
BEGIN:STANDARD
TZOFFSETFROM:+0200
TZOFFSETTO:+0100
TZNAME:CET
DTSTART:20251026T010000
END:STANDARD
END:VTIMEZONE
BEGIN:VEVENT
DTSTART;TZID=Europe/Berlin:20251112T200000
DTEND;TZID=Europe/Berlin:20251112T200000
DTSTAMP:20260422T142741
CREATED:20250924T234811Z
LAST-MODIFIED:20251006T055256Z
UID:30958-1762977600-1762977600@www.loftkoeln.de
SUMMARY:HMZB | live recording
DESCRIPTION:  \n\nTiziana Bertoncini – Violine \nPierre Yves Martel – modularer Synthesizer\nPhilip Zoubek – präpariertes Piano & Synthesizer\nCarl Ludwig Hübsch – Tuba & Objekte \n\n\n(english: see below) \nWeitere Informationen zu den Preisen\, Karten-Reservierungen und den Öffnungszeiten finden Sie hier.\n\nHMZ © Robin Gould ; Tiziana Bertoncini © Harald Krichel\nDas Quartett HMZB\, bestehend aus dem kanadischen Gambisten Pierre-Yves Martel sowie den Kölner Musikern Philip Zoubek und Carl Ludwig Hübsch\, wurde 2012 gegründet. Seit 2023 ist die in Wien lebende Violinistin Tiziana Bertoncini festes Mitglied des Ensembles.\nIm Laufe mehrerer Tourneen in Kanada und Europa entwickelte die Gruppe eine Musik\, die zugleich transparent und geheimnisvoll wirkt. Jeder Ton scheint präzise gesetzt\, die Stimmen sind kunstvoll miteinander verflochten. Die avancierten Spieltechniken der vier Musiker:innen schaffen eine klangliche Vielfalt\, die trotz leiser Passagen und Pausen weit über eine reduktionistische Klangübung hinausgeht \nhttps://ausland.berlin/de/artist/tiziana-bertoncini \nhttps://www.pymartel.com/ \nhttps://huebsch.me/ \nhttps://www.philipzoubek.com/ \n  \n\n\n\nTiziana Bertoncini – violin\nPierre Yves Martel – modular synthesizer\nPhilip Zoubek – prepared piano & synthesizer\nCarl Ludwig Hübsch – tuba & objects \nFurther information about prices\, ticket reservations and our opening times can be found here. \n\n\n\nThe HMZB quartet\, consisting of Canadian gambist Pierre-Yves Martel and Cologne-based musicians Philip Zoubek and Carl Ludwig Hübsch\, was founded in 2012. Vienna-based violinist Tiziana Bertoncini has been a permanent member of the ensemble since 2023.\nDuring several tours in Canada and Europe\, the group developed a style of music that is both transparent and mysterious. Every note seems precisely placed\, the voices artfully interwoven. The advanced playing techniques of the four musicians create a tonal diversity that\, despite quiet passages and pauses\, goes far beyond a reductionist sound exercise.
URL:https://www.loftkoeln.de/event/hmzb/
END:VEVENT
END:VCALENDAR