BEGIN:VCALENDAR
VERSION:2.0
PRODID:-//www.loftkoeln.de - ECPv5.14.2.1//NONSGML v1.0//EN
CALSCALE:GREGORIAN
METHOD:PUBLISH
X-WR-CALNAME:www.loftkoeln.de
X-ORIGINAL-URL:https://www.loftkoeln.de
X-WR-CALDESC:Veranstaltungen für www.loftkoeln.de
BEGIN:VTIMEZONE
TZID:UTC
BEGIN:STANDARD
TZOFFSETFROM:+0000
TZOFFSETTO:+0000
TZNAME:UTC
DTSTART:20130101T000000
END:STANDARD
END:VTIMEZONE
BEGIN:VEVENT
DTSTART;TZID=UTC:20130919T200000
DTEND;TZID=UTC:20130919T200000
DTSTAMP:20260425T154941
CREATED:20170417T034419Z
LAST-MODIFIED:20170420T120039Z
UID:4703-1379620800-1379620800@www.loftkoeln.de
SUMMARY:Hayden Chisholm presents: PLUSHMUSIC IV feat. Ronny Graupe - Tag 1
DESCRIPTION:Graupe Solo:\nRonny Graupe – guitar  \nThe Music of Gurdjieff:\nHayden Chisholm – sax.\nPhilip Zouboeb – piano \nWILDCARD 
URL:https://www.loftkoeln.de/event/hayden-chisholm-presents-plushmusic-iv-feat-ronny-graupe-tag-1/
END:VEVENT
END:VCALENDAR