BEGIN:VCALENDAR
VERSION:2.0
PRODID:-//www.loftkoeln.de - ECPv5.14.2.1//NONSGML v1.0//EN
CALSCALE:GREGORIAN
METHOD:PUBLISH
X-WR-CALNAME:www.loftkoeln.de
X-ORIGINAL-URL:https://www.loftkoeln.de
X-WR-CALDESC:Veranstaltungen für www.loftkoeln.de
BEGIN:VTIMEZONE
TZID:UTC
BEGIN:STANDARD
TZOFFSETFROM:+0000
TZOFFSETTO:+0000
TZNAME:UTC
DTSTART:20140101T000000
END:STANDARD
END:VTIMEZONE
BEGIN:VEVENT
DTSTART;TZID=UTC:20141122T203000
DTEND;TZID=UTC:20141122T203000
DTSTAMP:20260422T221556
CREATED:20170322T084756Z
LAST-MODIFIED:20170322T084756Z
UID:4337-1416688200-1416688200@www.loftkoeln.de
SUMMARY:H-Based
DESCRIPTION:Axel Fischbacher – guit.\nUlf Stricker – drums\nAndré Nendza – bass \n\n Die Band spielt in Rahmen ihrer aktuellen Konzerte die Musik  des Konzeptalbums „The World is not a Disc“. Eigentlich mit einer größeren Besetzung aufgenommen\, kommen die Kompositionen  in der aktuellen Trioversion in besonders direkter\, klarer\, kraftvoller Weise daher. Improvisationsbetont  und  geprägt von der Virtuosität der drei Musiker. \nFrei nach dem Motto: „Wir spielen nicht die Stücke\, wir  spielen  „mit den Stücken“.
URL:https://www.loftkoeln.de/event/h-based/
END:VEVENT
END:VCALENDAR