BEGIN:VCALENDAR
VERSION:2.0
PRODID:-//www.loftkoeln.de - ECPv5.14.2.1//NONSGML v1.0//EN
CALSCALE:GREGORIAN
METHOD:PUBLISH
X-WR-CALNAME:www.loftkoeln.de
X-ORIGINAL-URL:https://www.loftkoeln.de
X-WR-CALDESC:Veranstaltungen für www.loftkoeln.de
BEGIN:VTIMEZONE
TZID:UTC
BEGIN:STANDARD
TZOFFSETFROM:+0000
TZOFFSETTO:+0000
TZNAME:UTC
DTSTART:20100101T000000
END:STANDARD
END:VTIMEZONE
BEGIN:VEVENT
DTSTART;TZID=UTC:20100325T203000
DTEND;TZID=UTC:20100325T203000
DTSTAMP:20260424T175622
CREATED:20171027T090749Z
LAST-MODIFIED:20171027T090749Z
UID:6133-1269549000-1269549000@www.loftkoeln.de
SUMMARY:Guitar Guitar! Dopplekonzert
DESCRIPTION:Pentasonic:\nKalle Kalima – e- guitar solo \nWatch it grow:\nDuo Elliott Sharp – Scott Fields on e- guitars \n\nDer in Berlin lebende finnische Gitarrist Kalle Kalima stellt sein Solo Programm PENTASONIC vor. Kalimas Klangwelt ist sperrig\, aber nicht unzugänglich\, ein Experimentierfeld\, das die Möglichkeiten der E-Gitarre Schritt für Schritt auslotet. Das Solo-Projekt Pentasonic ist dabei eine Art Kernlabor\, in dem er in Echtzeit ohne Overdubs mit Räumen\, Motiven\, Rhythmen\, Geräuschen arbeitet\, melodisch im Ansatz\, orientiert am Flow der Inspiration\, uneitel in der Durchführung. Faszinierender Blick in Kalimas Denk- & Performance-Werkstatt….weil er da Zwiegesprächen frönt zwischen Mensch/Gitarrist und Maschine/Elektronik\, in denen der Gitarrist KK öfter mal zweitrangig wird\, obwohl er auch da insgesamt beeindruckt durch seine Ökonomie\, seinen stupenden Sinn für die genau richtige Dosierung an Maschinenkunst\, seine Gestaltungskraft\, seinen sicheren Sinn für subtile Dramaturgie und alles in allem das deutlich Künstlerische in seinen Klangcollagen und Verfremdungen. Nichts schreit oder schrillt oder blubbert. Seine Beherrschung der Elektronik ist bewundernswert\, und das\, was er da auf der Gitarre macht\, hat eben Sinn und Verstand. Kalle Kalima blufft nicht. Er ist ein ernst zu nehmender Mann. Mit ihm ist es eher\, als entrümple da endlich mal einer den verlotterten Dachboden der ziemlich wild wuchernden Improviserenden Klasse und puste frischen Wind in alle Ecken. \nWatch it grow: das Duo Elliott Sharp – Scott Fields ist das erste von 4 Konzerten im Loft\, die Scott Fields „Scott Fields Expanding String Ensemble“ nennt. Weitere folgen am 21. April und 3. und 4. Juni. Das erste Konzert bestreiten die beiden Gitarristen Scott Fields und Elliott Sharp allein. Die beiden werden über Fields‘ strukturelle Kompositionen improvisieren. Obwohl Fields und Sharp bereits Konzerte und Aufnahmen als akustisches Duo absolviert haben\, wird dies ihr erstes Zusammentreffen mit elektrischen Gitarren sein. Scott Fields arbeitet als Musiker mehr oder weniger seit den 1960er Jahren; zunächst in Chicago\, später dann in ganz Nordamerika\, Europa und Asien. Seine Musik wird üblicherweise dem Avantgarde-Jazz oder der Neuen Musik zugeordnet. Als Komponist erhält er gelegentlich Auftragskompositionen für Konzerte oder Tanztheater\, normalerweise schreibt er jedoch für sein eigenes amorphes Ensemble. Fields hat 21 CD’s unter seinem Namen bei Labels wie Delmark\, Clean Feed\, Neos\, Music&Arts\, Rogue Art\, und New World veröffentlicht. Mehr unter: www.scottfields.com and www.myspace.com/scottfieldsensemble.\nElliott Sharp – Multiinstrumentalist\, Komponist und Performer. Seit über 30 Jahren ist er eine Schlüsselfigur der New Yorker Avantgarde und experimentellen Musikszene. Sharp hat über 65 Einspielungen –von Blues\, Jazz über orchestrale Musik bis zu Noise\, Wave rock und Techno eingespielt. Er selbst hat über die Jahre viele Ensembles geleitet\, wie das bluesorientierte Terraplane und Orchestra Carbon. Sharp und Fields haben bisher zusammen eine akustische Duo- CD Sharfefelder beim Label Clean Feed veröffentlicht\, werden aber im Juli 2009 eine Zweite in New York in für das Label Neos aufnehmen. \nDiese Reihe wird von der Sparkasse Köln/Bonn Förderprogramm und dem Kulturamt der Stadt Köln unterstützt.
URL:https://www.loftkoeln.de/event/guitar-guitar-dopplekonzert/
END:VEVENT
END:VCALENDAR