BEGIN:VCALENDAR
VERSION:2.0
PRODID:-//www.loftkoeln.de - ECPv5.14.2.1//NONSGML v1.0//EN
CALSCALE:GREGORIAN
METHOD:PUBLISH
X-WR-CALNAME:www.loftkoeln.de
X-ORIGINAL-URL:https://www.loftkoeln.de
X-WR-CALDESC:Veranstaltungen für www.loftkoeln.de
BEGIN:VTIMEZONE
TZID:UTC
BEGIN:STANDARD
TZOFFSETFROM:+0000
TZOFFSETTO:+0000
TZNAME:UTC
DTSTART:20160101T000000
END:STANDARD
END:VTIMEZONE
BEGIN:VEVENT
DTSTART;TZID=UTC:20160505T203000
DTEND;TZID=UTC:20160505T203000
DTSTAMP:20260423T220747
CREATED:20160505T183000Z
LAST-MODIFIED:20170223T121040Z
UID:1052-1462480200-1462480200@www.loftkoeln.de
SUMMARY:Gille - Kaufmann - Elgart - Nowak
DESCRIPTION:Matthias Nowak – Kontrabass (Köln)\nSebastian Gille – Tenor Saxophon (Hamburg)\nAchim Kaufmann – Klavier (Berlin)\nBill Elgart – Schlagzeug (USA) \n\nSEBASTIAN GILLE (Saxophon)\,\ngeboren am 1. Februar 1983 in Quedlinburg in Sachsen-Anhalt\, stammt aus einer musikalischen Familie und begann im Alter von 14 Jahren Saxophon zu spielen. In seiner noch jungen Karriere arbeitet(e) Sebastian Gille mit einer Reihe von renommierten Künstlern\, wie Abdullah Ibrahim\, Al Jarreau\, Norma Winston\, David Liebman\, Steve Swallow\, Bob Brookmeyer\, Adam Nussbaum\, Christof Lauer\, Jim Black\, Michael Gibbs\, Tom Rainey\, John Schröder\, Steve Gray\, Rolf Kühn u.v.a.. Mittlerweile ist seine unverwechselbare Stimme am Tenorsaxophon auf über 30 Tonträgern zu hören. Seit der Veröffentlichung seines Debüt-Albums „Anthem“ im November 2011 auf dem Münchner Edel- Label Pirouet\, wird er von der weltweiten Fachpresse hochgelobt und u.a. als einer der `ausdrucksstärksten Saxofonisten unserer Zeit´ bezeichnet. Das Jazz Podium zählt ihn derzeit sogar unzweifelhaft zu den großartigsten Holzbläsern auf diesem Planeten. Des Weiteren wurde Sebastian Gille\, für seine besonderen künstlerischen Verdienste sowie sein Engagement für den Jazz\, im letzten Jahr mit dem Hamburger Jazzpreis 2015 ausgezeichnet. \nACHIM KAUFMANN (Piano)\nwas born into a musical family in Aachen\, Germany\, in 1962\, and became fascinated by jazz and the possibilities of improvisation as a teenager. In addition\, Achim has played and/or recorded with Han Bennink\, Mark Dresser\, George Lewis\, Steve Swallow\, Tobias Delius\, Wolter Wierbos\, Mark Helias\, Paul Rutherford\, Thomas Lehn\, Ab Baars\, Paul Lovens\, Dylan van der Schyff\, Peggy Lee\, Chris Speed\, Tomász Stanko\, Gerd Dudek\, Bill Elgart\, Paul Lytton\, Harri Sjöström\, Andrea Parkins\, Harris Eisenstadt\, Ingrid Laubrock\, Tristan Honsinger\, Shelley Hirsch\, Steve Swell\, Thomas Heberer\, Urs Leimgruber\, Roger Turner\, Fay Victor\, Fred Lonberg-Holm\, John Hollenbeck\, Bob Brookmeyer\, Simon Nabatov\, Lê Quan Ninh\, Gerry Hemingway\, John Hébert\, Al Foster\, Adam Nussbaum\, and many more. He was awarded the prestigious German SWR Jazz Award in 2001 and the Albert-Mangelsdorff-Award 2015. \nMATTHIAS AKEO NOWAK (Kontrabass)\,\ngeboren in Berlin\, studierte Orchestermusik und Jazz an der Hochschule für Musik und Darstellende Kunst in Mannheim und am Queens College\, New York. Als Mitglied der Jungen Deutschen Philharmonie und der Jungen Österreichischen Philharmonie wirkte er schon früh an zahlreichen Konzerten im In- und Ausland mit. Die Vorliebe zu Jazz und Improvisierter Musik lernte er als Bassist bei Gunter Hampels „Next Generation“ kennen. Er nahm an Masterclasses bei Charlie Haden\, Drew Gress und Eric Harland teil und wurde 2008 mit einem Jahresstipendium des DAAD ausgezeichnet\, welches ihm ermöglichte\, seine Studien 2008-2009 in New York zu vertiefen. Matthias lebt zur Zeit in Köln\, ist aktiver Teil der dortigen Jazzszene und spielt bei Triosence\, Tobias Christls „Wildern“ dem englischdeutschen Quartett Paragon\, Angelika Niescier\, seiner eigenen Band KoiTrio\, bei Eva Mayerhofer und zahlreichen anderen Projekten. Theater- Film und Orchestermusik Produktionen u.a. mit Gunter Hampel\, Johannes Repka\, Annette Focks\, gehören ebenso zu seinem Alltag\, wie seine Teilnahme an internationalen Festivals in über 35 Ländern wie Jazz Utsav\, New Dheli (IN)\, Eurojazz\, Mexico City (MEX)\, Tremplin Jazz Europeen\, Avignon (F)\, oder Jazzfestival Willisau\, Willisau (CH). \nBILL ELGART (Schlagzeug)\, studierte am Berklee College of Music und war Schüler von Alan Dawson. In den 1960er Jahren spielte er u.a. mit Carla Bley\, Paul Bley\, Marion Brown\, Sam Rivers\, Roswell Rudd\, John Tchicai\, Jack Walrath und Glenn Ferris. 1966 entstand sein Plattendebüt Mr. Joy mit Paul Bley und Gary Peacock. 1986 übersiedelte Elgart nach Ulm und unterrichtet seit 1990 Schlagzeug und Ensemblespiel an der Hochschule für Musik Würzburg. Er wirkte als Sideman an Aufnahmen von Marion Brown\, Leszek Zadlo\, Manfred Bründl\, Kenny Wheeler\, Carlo Mombelli\, Charlie Mariano\, Arrigo Cappelletti\, Franco D Andrea\, Wolfgang Lackerschmidt\, Claudio Fasoli\, Sigi Winkel und Paolino Dalla Porta und an Tourneeprojekten von Tim Berne\, Barre Phillips\, Eddie Gomez\, Conny Bauer\, Sheila Jordan\, David Friedman und Matthias Schubert mit. Mit Eric Watson und John Lindberg nahm er 1992 das TrioAlbum The Fool School auf.
URL:https://www.loftkoeln.de/event/gille-kaufmann-elgart-nowak/
END:VEVENT
END:VCALENDAR