BEGIN:VCALENDAR
VERSION:2.0
PRODID:-//www.loftkoeln.de - ECPv5.14.2.1//NONSGML v1.0//EN
CALSCALE:GREGORIAN
METHOD:PUBLISH
X-WR-CALNAME:www.loftkoeln.de
X-ORIGINAL-URL:https://www.loftkoeln.de
X-WR-CALDESC:Veranstaltungen für www.loftkoeln.de
BEGIN:VTIMEZONE
TZID:Europe/Berlin
BEGIN:DAYLIGHT
TZOFFSETFROM:+0100
TZOFFSETTO:+0200
TZNAME:CEST
DTSTART:20230326T010000
END:DAYLIGHT
BEGIN:STANDARD
TZOFFSETFROM:+0200
TZOFFSETTO:+0100
TZNAME:CET
DTSTART:20231029T010000
END:STANDARD
END:VTIMEZONE
BEGIN:VEVENT
DTSTART;TZID=Europe/Berlin:20231222T203000
DTEND;TZID=Europe/Berlin:20231222T203000
DTSTAMP:20260424T122740
CREATED:20231025T133941Z
LAST-MODIFIED:20231123T093633Z
UID:25465-1703277000-1703277000@www.loftkoeln.de
SUMMARY:Frederik Köster / die Verwandlung | 2. Konzert
DESCRIPTION:  \nFrederik Köster – Trompete\, Flügelhorn\, Stimme\, Komposition\nSebastian Sternal – Piano\nJoscha Oetz – Bass\nJonas Burgwinkel – Schlagzeug \n\n(english: see below) \nInformationen zu den Preisen\, Karten-Reservierungen und den Öffnungszeiten finden Sie hier.\n\nFrederik Köster / die Verwandlung © Stefanie Marcus\nFrederik Köster / die Verwandlung spielen neben ihrem aktuellen Programm Stufen und einer Auswahl an älteren Hits\, Stücke aus Frederiks eigens für die NDR Big Band geschriebener Murakami Suite\, die im November in Hamburg ihre Premiere feierte. \nDie Band wird neben einigen Konzerte in Bayern\, Badem Württemberg und NRW in diesem Winter eine Pause einlegen. Wer die Verwandlung in dieser Besetzung noch einmal hören und sehen will hat an diesen beiden Abenden noch ein letztes Mal die Chance dazu! \nhttps://www.frederikkoester.de\n\n\n\n\n\ngefördert von: \n \n  \n\nFrederik Köster – trumpet\, flugelhorn\, voice\, composition\nSebastian Sternal – piano\nJoscha Oetz – bass\nJonas Burgwinkel – drums \nInformation about prices\, ticket reservations and our opening times can be found here. \nIn addition to their current program Stufen and a selection of older hits\, Frederik Köster / die Verwandlung will play pieces from Frederik’s Murakami Suite\, which was written especially for the NDR Big Band and celebrated its premiere in Hamburg in November. \nThe band will be taking a break this winter in addition to some concerts in Bavaria\, Baden-Württemberg and NRW. If you want to see and hear die Verwandlung in this line-up again\, you have one last chance to do so on these two evenings!
URL:https://www.loftkoeln.de/event/frederik-koester-die-verwandlung-tag-2/
END:VEVENT
END:VCALENDAR