BEGIN:VCALENDAR
VERSION:2.0
PRODID:-//www.loftkoeln.de - ECPv5.14.2.1//NONSGML v1.0//EN
CALSCALE:GREGORIAN
METHOD:PUBLISH
X-WR-CALNAME:www.loftkoeln.de
X-ORIGINAL-URL:https://www.loftkoeln.de
X-WR-CALDESC:Veranstaltungen für www.loftkoeln.de
BEGIN:VTIMEZONE
TZID:UTC
BEGIN:STANDARD
TZOFFSETFROM:+0000
TZOFFSETTO:+0000
TZNAME:UTC
DTSTART:20140101T000000
END:STANDARD
END:VTIMEZONE
BEGIN:VEVENT
DTSTART;TZID=UTC:20140222T203000
DTEND;TZID=UTC:20140222T203000
DTSTAMP:20260422T150414
CREATED:20170323T134630Z
LAST-MODIFIED:20170323T134630Z
UID:4485-1393101000-1393101000@www.loftkoeln.de
SUMMARY:Frau KARO Album Release Konzert 'Breaking Clouds'    
DESCRIPTION:Support Band „The Day“\nFrau KARO: deep words. mellow sounds. broken beats. Indie Pop. \n\nFrau KARO entführt auf eine Reise durch musikalische Gefühlswelten. Stimmlich. Und kompositorisch. Durch und durch Musikerin\, Sängerin\, Songwriterin und Pianistin\, die sich im Pop-\, Soul und Rock zu Hause fühlt. Im Zentrum ihrer Musik steht die Stimme\, die alle Fäden zieht\, die Arrangements bestimmt und die Instrumente orchestriert. Das vorläufige Fazit ihrer Entwicklung durch Studium und viel Liveerfahrung und ihrer Liebe zur Musik: ihr selbstkomponiertes und mit dem Produzenten Julian David aus LA realisiertes Debütalbum „Breaking Clouds“\, mit dem sie Indie-Pop in typischer KARO-Art neu definiert.
URL:https://www.loftkoeln.de/event/frau-karo-album-release-konzert-breaking-clouds%c2%a0%c2%a0%c2%a0%c2%a0/
END:VEVENT
END:VCALENDAR