BEGIN:VCALENDAR
VERSION:2.0
PRODID:-//www.loftkoeln.de - ECPv5.14.2.1//NONSGML v1.0//EN
CALSCALE:GREGORIAN
METHOD:PUBLISH
X-WR-CALNAME:www.loftkoeln.de
X-ORIGINAL-URL:https://www.loftkoeln.de
X-WR-CALDESC:Veranstaltungen für www.loftkoeln.de
BEGIN:VTIMEZONE
TZID:UTC
BEGIN:STANDARD
TZOFFSETFROM:+0000
TZOFFSETTO:+0000
TZNAME:UTC
DTSTART:20130101T000000
END:STANDARD
END:VTIMEZONE
BEGIN:VEVENT
DTSTART;TZID=UTC:20130623T203000
DTEND;TZID=UTC:20130623T203000
DTSTAMP:20260423T004153
CREATED:20170420T120313Z
LAST-MODIFIED:20170420T120313Z
UID:4752-1372019400-1372019400@www.loftkoeln.de
SUMMARY:Frank Gratkowski (Altsaxophon\, Klarinetten\, Electronics) und Anton Lukoszevieze (Cello)
DESCRIPTION:spielen Kompositionen und Improvisationen\, solo und im Duo
URL:https://www.loftkoeln.de/event/frank-gratkowski-altsaxophon-klarinetten-electronics-und-anton-lukoszevieze-cello/
END:VEVENT
END:VCALENDAR