BEGIN:VCALENDAR
VERSION:2.0
PRODID:-//www.loftkoeln.de - ECPv5.14.2.1//NONSGML v1.0//EN
CALSCALE:GREGORIAN
METHOD:PUBLISH
X-WR-CALNAME:www.loftkoeln.de
X-ORIGINAL-URL:https://www.loftkoeln.de
X-WR-CALDESC:Veranstaltungen für www.loftkoeln.de
BEGIN:VTIMEZONE
TZID:Europe/Berlin
BEGIN:DAYLIGHT
TZOFFSETFROM:+0100
TZOFFSETTO:+0200
TZNAME:CEST
DTSTART:20240331T010000
END:DAYLIGHT
BEGIN:STANDARD
TZOFFSETFROM:+0200
TZOFFSETTO:+0100
TZNAME:CET
DTSTART:20241027T010000
END:STANDARD
END:VTIMEZONE
BEGIN:VEVENT
DTSTART;TZID=Europe/Berlin:20240428T200000
DTEND;TZID=Europe/Berlin:20240428T200000
DTSTAMP:20260423T182543
CREATED:20240307T104037Z
LAST-MODIFIED:20240308T115650Z
UID:26518-1714334400-1714334400@www.loftkoeln.de
SUMMARY:FLUX
DESCRIPTION:Christina Fuchs – Sopransaxophon\, Klarinette\, Bassklarinette\nFlorian Stadler – Akkordeon \n  \n\n(english: see below) \nAb Januar 2024 beginnen alle Konzerte im LOFT um 20.00 Uhr.\nAusnahmen – z.B. Sonntags – sind möglich.\nWeitere Informationen zu den Preisen\, Karten-Reservierungen und den Öffnungszeiten finden Sie hier.\n\nFLUX: Christina Fuchs & Florian Stadler © Heike Fischer\nMit akustischen Instrumenten entspinnen zwei ProtagonistInnen der jazzbasierten Improvisationsmusik einen Diskurs über Möglichkeiten des zeitgenössischen Zusammenspiels. So ertönt feingliedrig Kontrapunktisches und tänzelnd Polyrhythmisches mühelos neben rohen Klangtürmen\, vehementen Akkordclustern und schlichter Gesanglichkeit. \nAls Christina Fuchs und Florian Stadler 2018 das Duo FLUX  gründeten\, experimentierten der Bonner Akkordeonist und die Kölner Saxofonistin\, Klarinettistin und Komponistin noch mit den verschiedenen Formen und Möglichkeiten von komponierter und elektroakustischer Musik. Im Lauf der Zeit fanden die beiden Gleichgesinnten eine Neuorientierung hin zu einer rein analogen Improvisationsmusik. \nhttps://christinafuchs.de \nIhr neues Album Roots & Rhyzomes (JazzHausMusik 312) wird 2024 vorgestellt. \n\n\n\nKlingt so: \n\n\nChristina Fuchs – soprano saxophone\, clarinet\, bass clarinet\nFlorian Stadler – accordion \nFrom January 2024 on\, the concerts at the LOFT start round 8.00 pm\nExceptions – e.g. on Sundays – are possible.\nFurther information about prices\, ticket reservations and our opening times can be found here. \nUsing acoustic instruments\, two protagonists of jazz-based improvisational music develop a discourse on the possibilities of contemporary interplay. Delicate counterpoint and prancing polyrhythms are heard effortlessly alongside raw towers of sound\, vehement chord clusters and simple vocals. \nWhen Christina Fuchs and Florian Stadler founded the duo FLUX in 2018\, the Bonn accordionist and the Cologne saxophonist\, clarinettist and composer were still experimenting with the various forms and possibilities of composed and electro-acoustic music. Over time\, the two like-minded musicians found a new orientation towards purely analog improvisational music. \nTheir new album Roots & Rhyzomes (JazzHausMusik 312) will be presented in 2024.
URL:https://www.loftkoeln.de/event/flux/
END:VEVENT
END:VCALENDAR