BEGIN:VCALENDAR
VERSION:2.0
PRODID:-//www.loftkoeln.de - ECPv5.14.2.1//NONSGML v1.0//EN
CALSCALE:GREGORIAN
METHOD:PUBLISH
X-WR-CALNAME:www.loftkoeln.de
X-ORIGINAL-URL:https://www.loftkoeln.de
X-WR-CALDESC:Veranstaltungen für www.loftkoeln.de
BEGIN:VTIMEZONE
TZID:Europe/Berlin
BEGIN:DAYLIGHT
TZOFFSETFROM:+0100
TZOFFSETTO:+0200
TZNAME:CEST
DTSTART:20210328T010000
END:DAYLIGHT
BEGIN:STANDARD
TZOFFSETFROM:+0200
TZOFFSETTO:+0100
TZNAME:CET
DTSTART:20211031T010000
END:STANDARD
END:VTIMEZONE
BEGIN:VEVENT
DTSTART;TZID=Europe/Berlin:20211114T203000
DTEND;TZID=Europe/Berlin:20211114T203000
DTSTAMP:20260424T032857
CREATED:20211004T090638Z
LAST-MODIFIED:20211023T085957Z
UID:18311-1636921800-1636921800@www.loftkoeln.de
SUMMARY:Finn Wiest’s Hustle Bande | live recording
DESCRIPTION:Julius Van Rhee – Altsaxophon\nVictor Fox – Tenorsaxophon\, Bassklarinette\nLeandro Irarragorri – Piano\nCalvin Lennig – Bass\nFinn Wiest – Schlagzeug \n\nDas Konzert wird vor Publikum stattfinden\, weitere Informationen zu Konzerten während der Corona-Pandemie finden Sie hier\, Informationen zu den Preisen\, Karten-Reservierungen und den Öffnungszeiten hier.\nDie Band des Schlagzeugers vereint fünf Musiker aus Köln und Zürich\, die auf eine gemeinsame musikalische Entwicklung über die letzten Jahre zurückschauen können. Zu nennen ist das 2019 gegründete Quartett „Feed The Rich“\, bestehend aus Victor Fox\, Leandro Irarragorri\, Calvin Lennig und Finn Wiest\, welches aufgrund der Coronapandemie pausieren musste. Umso mehr freuen sich die Musiker nun\, mit dem Zuwachs Julius Van Rhee am Altsaxophon\, wieder auftreten zu können. \nIm Vorfeld einer Studioproduktion im LOFT wird das Quintett bei diesem Konzert ein Repertoire aus Eigenkompositionen und Originals präsentieren\, wobei stets das Motto gilt: „Alles kann\, nichts muss!“. Große Einflüsse kommen von Musikern wie Andrew Hill\, Keith Jarrett oder Joe Lovano.\n\nJulius Van Rhee – alto saxophone\nVictor Fox – tenor saxophone\, bass clarinet\nLeandro Irarragorri – piano\nCalvin Lennig – bass\nFinn Wiest – drums \nPlease read our infos concerning concerts with an audience during the Corona pandemic here. Information about prices\, ticket reservations and our opening times can be found here. \nThe band of the drummer unites five musicians from Cologne and Zurich\, who can look back on a common musical development over the last years. To mention is the quartet „Feed The Rich“\, formed in 2019\, consisting of Victor Fox\, Leandro Irarragorri\, Calvin Lennig and Finn Wiest\, which had to pause due to the corona pandemic. The musicians are all the more pleased now to be able to perform again with the addition of Julius Van Rhee on alto saxophone.\nIn the run-up to a studio production at LOFT\, the quintet will present a repertoire of original compositions and originals at this concert\, always following the motto: „Everything can\, nothing must!“. Great influences come from musicians like Andrew Hill\, Keith Jarrett or Joe Lovano.
URL:https://www.loftkoeln.de/event/finn-wiests-hustle-bande-live-recording/
END:VEVENT
END:VCALENDAR