BEGIN:VCALENDAR
VERSION:2.0
PRODID:-//www.loftkoeln.de - ECPv5.14.2.1//NONSGML v1.0//EN
CALSCALE:GREGORIAN
METHOD:PUBLISH
X-WR-CALNAME:www.loftkoeln.de
X-ORIGINAL-URL:https://www.loftkoeln.de
X-WR-CALDESC:Veranstaltungen für www.loftkoeln.de
BEGIN:VTIMEZONE
TZID:UTC
BEGIN:STANDARD
TZOFFSETFROM:+0000
TZOFFSETTO:+0000
TZNAME:UTC
DTSTART:20170101T000000
END:STANDARD
END:VTIMEZONE
BEGIN:VEVENT
DTSTART;TZID=UTC:20170304T203000
DTEND;TZID=UTC:20170304T203000
DTSTAMP:20260424T173301
CREATED:20170122T104828Z
LAST-MODIFIED:20170207T072817Z
UID:3703-1488659400-1488659400@www.loftkoeln.de
SUMMARY:Filippa Gojo & Andreas Schickentanz
DESCRIPTION:Filippa Gojo – Gesang\, Kalimba\, Shruti-Box\nAndreas Schickentanz – Posaune/Effekte \n\n \nTatsächlich handelt es sich hier nicht um ein Duo von Gesang und Posaune\, sondern um zwei Solo Programme\, wie sie unterschiedlicher und ergänzender nicht sein könnten. Die mehrfach ausgezeichnet Sängerin Filippa Gojo setzt ganz auf akustische Klänge und das Spielen mit Text\, Lautmalerei\, reduzierteste Begleitung und Stimmklang – ohne Genrediktat\, ohne konkrete Vorbilder: Weltmusik im ureigentlichen Sinn\, auch wenn sie auf ihrer Solo-Platte „vertraum“ (A Jazz) neben der Weltsprache Englisch hauptsächlich im ihr vertrauten alemannischen Idiom singt.\nDer Posaunist Andreas Schickentanz setzt das Instrument Posaune in einen anderen Kontext und hat sich in den letzten Jahren immer mehr dem Solospiel und der Klangforschung zugewandt. So entstehen außergewöhnliche Bilder und Klangfarben. Eine elektroakustische Abenteuerreise.\nAktuelle CD Axiom (JHM 230)
URL:https://www.loftkoeln.de/event/filippa-gojo-andreas-schickentanz/
END:VEVENT
END:VCALENDAR