BEGIN:VCALENDAR
VERSION:2.0
PRODID:-//www.loftkoeln.de - ECPv5.14.2.1//NONSGML v1.0//EN
CALSCALE:GREGORIAN
METHOD:PUBLISH
X-WR-CALNAME:www.loftkoeln.de
X-ORIGINAL-URL:https://www.loftkoeln.de
X-WR-CALDESC:Veranstaltungen für www.loftkoeln.de
BEGIN:VTIMEZONE
TZID:UTC
BEGIN:STANDARD
TZOFFSETFROM:+0000
TZOFFSETTO:+0000
TZNAME:UTC
DTSTART:20140101T000000
END:STANDARD
END:VTIMEZONE
BEGIN:VEVENT
DTSTART;TZID=UTC:20141120T203000
DTEND;TZID=UTC:20141120T203000
DTSTAMP:20260422T183116
CREATED:20170322T084906Z
LAST-MODIFIED:20170322T084906Z
UID:4339-1416515400-1416515400@www.loftkoeln.de
SUMMARY:Fields - Mahnig - Schubert - Vossas
DESCRIPTION:Scott Fields – guit.\nDominik Mahnig – drums\nMatthias Schubert – ts.\nEckard Vossas – Synthesizer\, Electronics\, Continuum Fingerboard \n\n„Frei improvisiert\, elektronisch\, expressiv\, energetisch\, spontan\, impulsiv Klangfarben auslotend\, mit Soundmaterie experimentierend\, Spiel mit Momenten sich transformierender Spektren.„ \nStücke mit offener Form für vier virtuose Musiker\, die zusammen einzigartige und vielfältige Strukturen  Live  erlebbar machen: frei improvisierte Begegnung elektronischer und akustischer Klangerzeugung\, in denen eine spezielle Welt des Klanges durch verschiedene Perspektiven\, Stile und Klangkombinationen erschlossen wird.
URL:https://www.loftkoeln.de/event/fields-mahnig-schubert-vossas/
END:VEVENT
END:VCALENDAR