BEGIN:VCALENDAR
VERSION:2.0
PRODID:-//www.loftkoeln.de - ECPv5.14.2.1//NONSGML v1.0//EN
CALSCALE:GREGORIAN
METHOD:PUBLISH
X-WR-CALNAME:www.loftkoeln.de
X-ORIGINAL-URL:https://www.loftkoeln.de
X-WR-CALDESC:Veranstaltungen für www.loftkoeln.de
BEGIN:VTIMEZONE
TZID:Europe/Berlin
BEGIN:DAYLIGHT
TZOFFSETFROM:+0100
TZOFFSETTO:+0200
TZNAME:CEST
DTSTART:20250330T010000
END:DAYLIGHT
BEGIN:STANDARD
TZOFFSETFROM:+0200
TZOFFSETTO:+0100
TZNAME:CET
DTSTART:20251026T010000
END:STANDARD
END:VTIMEZONE
BEGIN:VEVENT
DTSTART;TZID=Europe/Berlin:20250118T200000
DTEND;TZID=Europe/Berlin:20250118T200000
DTSTAMP:20260422T143238
CREATED:20241128T095135Z
LAST-MODIFIED:20241206T113949Z
UID:28226-1737230400-1737230400@www.loftkoeln.de
SUMMARY:Ferdi Büchner Quartett | live recording
DESCRIPTION:Ferdinand Büchner – Gesang & Piano\nHannes Kempa – Tenorsaxophon\nIvan Scholz – Bass\nPablo Santamaria Navarro – Schlagzeug  \n\n(english: see below) \nAb Januar 2024 beginnen alle Konzerte im LOFT um 20.00 Uhr.\nAusnahmen – z.B. Sonntags – sind möglich.\nWeitere Informationen zu den Preisen\, Karten-Reservierungen und den Öffnungszeiten finden Sie hier.\n\nFerdinand Büchner Quartett\nFerdi Büchner ist ein junger deutscher Jazzsänger. Seine Stimme verschreibt sich einem lyrischen\, fragilen Sound und einer stilistischen Offenheit und Neugier. Er studierte Jazzgesang und Klavier in Dresden; dort formierte sich auch sein Quartett\, das sich v.a. seinen Eigenkompositionen und Vertonungen deutscher Lyrik widmet. Aber auch Bearbeitungen von Jazzstandards und anderen Songs finden Eingang ins Repertoire des Quartetts. Die vier Musiker erschaffen eine ungeheure Dynamik\, in der sich intime und raue Klänge abwechseln und die das Publikum tiefgreifend bewegt. \nhttps://ferdimusik.wordpress.com/ \n\n\n\n\nFerdinand Büchner – voice & piano\nHannes Kempa – tenor saxophone\nIvan Scholz – bass\nPablo Santamaria Navarro – drums  \nFrom January 2024 on\, the concerts at the LOFT start round 8.00 pm\nExceptions – e.g. on Sundays – are possible.\nFurther information about prices\, ticket reservationsand our opening times can be found here.\nFerdi Büchner is a young German jazz singer. His voice is dedicated to a lyrical\, fragile sound and a stylistic openness and curiosity. He studied jazz singing and piano in Dresden\, where he also formed his quartet\, which is primarily dedicated to his own compositions and settings of German poetry. Moreover\, arrangements of jazz standards and other songs find their way into the quartet’s repertoire. The four musicians create a tremendous dynamic in which intimate and raw sounds alternate and move the audience profoundly. \n 
URL:https://www.loftkoeln.de/event/ferdi-buechner-quartett-live-recording/
END:VEVENT
END:VCALENDAR