BEGIN:VCALENDAR
VERSION:2.0
PRODID:-//www.loftkoeln.de - ECPv5.14.2.1//NONSGML v1.0//EN
CALSCALE:GREGORIAN
METHOD:PUBLISH
X-WR-CALNAME:www.loftkoeln.de
X-ORIGINAL-URL:https://www.loftkoeln.de
X-WR-CALDESC:Veranstaltungen für www.loftkoeln.de
BEGIN:VTIMEZONE
TZID:Europe/Berlin
BEGIN:DAYLIGHT
TZOFFSETFROM:+0100
TZOFFSETTO:+0200
TZNAME:CEST
DTSTART:20250330T010000
END:DAYLIGHT
BEGIN:STANDARD
TZOFFSETFROM:+0200
TZOFFSETTO:+0100
TZNAME:CET
DTSTART:20251026T010000
END:STANDARD
END:VTIMEZONE
BEGIN:VEVENT
DTSTART;TZID=Europe/Berlin:20250520T200000
DTEND;TZID=Europe/Berlin:20250520T200000
DTSTAMP:20260424T154957
CREATED:20250401T131706Z
LAST-MODIFIED:20250403T091930Z
UID:29513-1747771200-1747771200@www.loftkoeln.de
SUMMARY:Felix Henkelhausen Quintet
DESCRIPTION:Wanja Slavin – Sopran- & Altsaxophon\nUli Kempendorff – Tenorsaxophon\nValentin Gerhardus – Piano & live Elektronik\nFelix Henkelhausen – Bass & Komposition\nLeif Berger – Schlagzeug \n\n(english: see below) \nWeitere Informationen zu den Preisen\, Karten-Reservierungen und den Öffnungszeiten finden Sie hier.\n\n© Cristina Marx / Photomusix\nThe Excruciating Pain of Boredom ist das erste live-Album der Band\, aber das zweite Album innerhalb von vier Jahren\, und erscheint im Mai auf dem Münchner Label enja yellowbird.\nIm Mai 2025 spielt Henkelhausen’s Quintet eine Deutschland Tour und präsentiert die Platte bzw. neues Material\, welches in den letzten Jahren gemeinsamen erarbeitet wurde. Dabei liegt der Fokus besonders auf Improvisation in Verbindung mit den ausdrucksstarken und vertrackten Kompositionen Henkelhausen’s. \n„Die Band ist in den letzten Jahren musikalisch zusammen gewachsen und für mich als Spieler und Komponist ein sehr fruchtbarer Nährboden zur Weiterentwicklung und individuellem sowie kollektivem musikalischen Wachstum.“ \nValentin Gerhardus bringt durch die Live-Electronics neben seinem Klavierspiel eine weitere\, fast mystische Ebene in die Musik\, die den Stücken noch mehr Vielschichtigkeit verleiht. Wanja Slavin und Uli Kempendorff ergänzen sich zudem hochvirtuos als Frontgruppe und verleihen jeder Melodie ein Gefühl von Tiefe und Wärme. Leif Berger bringt mit seiner transparenten\, hochsensiblen\, aber energetischen Spielweise die gesamte Band in eine Symbiose und navigiert durch jede noch so komplexe Passage. \nhttp://www.wanja-slavin.de/ \nhttp://ulikempendorff.de/ \nhttps://de.wikipedia.org/wiki/Leif_Berger \n\nKlingt so:\nhttps://youtu.be/vi5N6rGKFTo \n\n\n\n\nWanja Slavin – soprano & alto saxophone\nUli Kempendorff – tenorsaxophone\nValentin Gerhardus – piano & live electronics\nFelix Henkelhausen – bass & composition\nLeif Berger – drums \nFurther information about prices\, ticket reservations and our opening times can be found here.\nThe Excruciating Pain of Boredom is the band’s first live album\, but the second album in four years\, and will be released in May on the Munich label enja yellowbird.\nIn May 2025\, Henkelhausen’s Quintet will play a tour of Germany to present the album and new material that has been developed together over the last few years. The focus will be on improvisation in combination with Henkelhausen’s expressive and intricate compositions. \n“The band has grown together musically in recent years and for me as a player and composer it has been a very fertile breeding ground for further development and individual and collective musical growth.” \nIn addition to his piano playing\, Valentin Gerhardus brings a further\, almost mystical level to the music through live electronics\, which lends the pieces even more complexity. Wanja Slavin and Uli Kempendorff also complement each other as a highly virtuosic front group\, lending each melody a sense of depth and warmth. Leif Berger’s transparent\, highly sensitive but energetic playing style brings the entire band into a symbiosis and navigates through every passage\, no matter how complex. \n 
URL:https://www.loftkoeln.de/event/felix-henkelhausen-quintet-2/
END:VEVENT
END:VCALENDAR