BEGIN:VCALENDAR
VERSION:2.0
PRODID:-//www.loftkoeln.de - ECPv5.14.2.1//NONSGML v1.0//EN
CALSCALE:GREGORIAN
METHOD:PUBLISH
X-WR-CALNAME:www.loftkoeln.de
X-ORIGINAL-URL:https://www.loftkoeln.de
X-WR-CALDESC:Veranstaltungen für www.loftkoeln.de
BEGIN:VTIMEZONE
TZID:UTC
BEGIN:STANDARD
TZOFFSETFROM:+0000
TZOFFSETTO:+0000
TZNAME:UTC
DTSTART:20180101T000000
END:STANDARD
END:VTIMEZONE
BEGIN:VEVENT
DTSTART;TZID=UTC:20180114T203000
DTEND;TZID=UTC:20180114T203000
DTSTAMP:20260420T150614
CREATED:20171031T081039Z
LAST-MODIFIED:20171031T081039Z
UID:6242-1515961800-1515961800@www.loftkoeln.de
SUMMARY:Felix Hauptmann Trio
DESCRIPTION:Felix Hauptmann – Piano\nReza Askari – Bass\nFabian Arends – Drums \n\nModern Jazz \nMit dem Felix Hauptmann Trio haben sich drei hervorragende Instrumentalisten gefunden\, deren Musik durch die freien Ebenen\, die sie schaffen\, atmet.\nMan fühlt sich eingeladen zu genießen\, lauscht zurückgelehnt\, sich wundernd\, dass Stille klingen kann\, und wird im nächsten Moment eingenommen von mitreißender Energie. \nDie Band interpretiert eine besondere Auswahl  an Eigenkompositionen und Originals.
URL:https://www.loftkoeln.de/event/felix-hauptmann-trio/
END:VEVENT
END:VCALENDAR