BEGIN:VCALENDAR
VERSION:2.0
PRODID:-//www.loftkoeln.de - ECPv5.14.2.1//NONSGML v1.0//EN
CALSCALE:GREGORIAN
METHOD:PUBLISH
X-WR-CALNAME:www.loftkoeln.de
X-ORIGINAL-URL:https://www.loftkoeln.de
X-WR-CALDESC:Veranstaltungen für www.loftkoeln.de
BEGIN:VTIMEZONE
TZID:UTC
BEGIN:STANDARD
TZOFFSETFROM:+0000
TZOFFSETTO:+0000
TZNAME:UTC
DTSTART:20170101T000000
END:STANDARD
END:VTIMEZONE
BEGIN:VEVENT
DTSTART;TZID=UTC:20171013T203000
DTEND;TZID=UTC:20171013T203000
DTSTAMP:20260424T104513
CREATED:20170817T111958Z
LAST-MODIFIED:20171006T142103Z
UID:5059-1507926600-1507926600@www.loftkoeln.de
SUMMARY:Fearless Trio: Ludwig/Nabatov/Arends - Live-CD Recording
DESCRIPTION:Johannes Ludwig – Altsaxophon\nSimon Nabatov – Klavier\nFabian Arends – Schlagzeug \n\n© Lena Semmelroggen\nWas passiert\, wenn drei virtuose Improvisatoren aufeinander treffen\, die sich stilistisch ständig umfassend weiterbilden und sich nie mit dem Erreichten zufrieden geben\, zeigt sich in diesem Trio.\nIn der Band um den Altsaxophonisten Johannes Ludwig trifft der Klavier-Großmeister Simon Nabatov auf den Schlagzeug-Shootingstar Fabian Arends\, um die Musik des Bandleaders in wunderbar frischem Gewand zu präsentieren.\nJohannes Ludwig\, Jahrgang 1988\, hat schon viele Projekte unter eigener Federführung realisiert und sein mittlerweile sehr umfangreiches kompositorisches Werk in verschiedensten Besetzungen präsentiert\, wie z.B. mit dem Subway Jazz Orchestra\, der transatlantischen Band Immigration Booth und dem Johannes Ludwig Quartett\, das beim Neuen Deutschen Jazzpreis 2016 den zweiten Platz belegte.\nDas Fearless Trio ist sein jüngstes Baby\, mit dem er seine Musik in neuer Art erklingen lässt. Hier werden bestehende Songstrukturen stärker als bisher gedehnt\, aufgebrochen und im Flug neu geformt\, wobei die Absenz eines Tieftöners vor allem dem Klavier besonderen Freiraum gibt\, den Simon Nabatov mit größter Freude ausnutzt. Starke\, einprägsame Melodien\, funk-rockige Grooves und vielfarbige Harmonien werden abstrahiert\, seziert\, fermentiert und wieder zu einem schillernden Ganzen verschmolzen.\nSo spielt dieses Generationen übergreifende Trio eine faszinierende Musik\, die zugleich eingängig\, wild\, leuchtend\, unvorhersehbar\, zupackend und mitreißend ist. Improvisation ohne Sicherheitsgurte\, Zusammenspiel ohne Berührungsängste – „fearless“ eben.
URL:https://www.loftkoeln.de/event/fearless-trio-ludwignabatovarends-live-cd-recording/
END:VEVENT
END:VCALENDAR