BEGIN:VCALENDAR
VERSION:2.0
PRODID:-//www.loftkoeln.de - ECPv5.14.2.1//NONSGML v1.0//EN
CALSCALE:GREGORIAN
METHOD:PUBLISH
X-WR-CALNAME:www.loftkoeln.de
X-ORIGINAL-URL:https://www.loftkoeln.de
X-WR-CALDESC:Veranstaltungen für www.loftkoeln.de
BEGIN:VTIMEZONE
TZID:Europe/Berlin
BEGIN:DAYLIGHT
TZOFFSETFROM:+0100
TZOFFSETTO:+0200
TZNAME:CEST
DTSTART:20230326T010000
END:DAYLIGHT
BEGIN:STANDARD
TZOFFSETFROM:+0200
TZOFFSETTO:+0100
TZNAME:CET
DTSTART:20231029T010000
END:STANDARD
END:VTIMEZONE
BEGIN:VEVENT
DTSTART;TZID=Europe/Berlin:20230508T203000
DTEND;TZID=Europe/Berlin:20230508T203000
DTSTAMP:20260424T104038
CREATED:20230324T075110Z
LAST-MODIFIED:20230411T070519Z
UID:23461-1683577800-1683577800@www.loftkoeln.de
SUMMARY:FEAR O’ SHE
DESCRIPTION:Marcus Wärnheim – Saxophone\nElisabeth Coudoux – Cello\nFelix Hauptmann – Piano\nTancrède D. Kummer – Schlagzeug \n\n(english: see below) \nInformationen zu den Preisen\, Karten-Reservierungen und den Öffnungszeiten finden Sie hier.\n\n\n\nIn FEAR O‘ SHE vereint der französische Schlagzeuger Tancrède D. Kummer aufstrebende und etablierte Improvisator*innen\, seine Kompositionen & Konzepte verschmelzen zeitgenössische klassische Einflüsse mit avantgardistischen rhythmischen Gesten und Formen. \nJetzt wird gesprochen! Improvisationen\, die mal heftig\, mal zart sind\, konvergieren zu raffinierten Strukturen\, die abwechselnd erforscht\, kombiniert oder verlassen werden. \nAuf der Suche! Auf der Suche nach dieser instabilen Umgebung\, in der der Akt vorherrscht\, in der der stumme Wille der Musik die Oberhand gewinnt. \nhttps://tancrededkummer.com/ \n  \n\n\nMarcus Wärnheim – saxophone\nElisabeth Coudoux – cello\nFelix Hauptmann – piano\nTancrède D. Kummer – drums \nInformation about prices\, ticket reservations and our opening times can be found here. \nFEAR O’ SHE gathers a constellation of emerging and established improvisers around Tancrède’s compositions and concepts. The music merges contemporary classical influences with avant-garde rhythmical gestures and forms. \nNow speaking! At once violent or tenuous\, improvisations converge towards sophisticated structures in turn explored\, combined or deserted. \nIn Search! In search for this unstable environment where act prevails\, where the mute will of music takes over.
URL:https://www.loftkoeln.de/event/fear-o-she/
END:VEVENT
END:VCALENDAR