BEGIN:VCALENDAR
VERSION:2.0
PRODID:-//www.loftkoeln.de - ECPv5.14.2.1//NONSGML v1.0//EN
CALSCALE:GREGORIAN
METHOD:PUBLISH
X-WR-CALNAME:www.loftkoeln.de
X-ORIGINAL-URL:https://www.loftkoeln.de
X-WR-CALDESC:Veranstaltungen für www.loftkoeln.de
BEGIN:VTIMEZONE
TZID:UTC
BEGIN:STANDARD
TZOFFSETFROM:+0000
TZOFFSETTO:+0000
TZNAME:UTC
DTSTART:20170101T000000
END:STANDARD
END:VTIMEZONE
BEGIN:VEVENT
DTSTART;TZID=UTC:20170324T203000
DTEND;TZID=UTC:20170324T203000
DTSTAMP:20260422T125047
CREATED:20170131T104345Z
LAST-MODIFIED:20170207T091206Z
UID:3768-1490387400-1490387400@www.loftkoeln.de
SUMMARY:Falk Grieffenhagen Quartett
DESCRIPTION:Falk Grieffenhagen – sax\, cl\nStefan Rademacher – bass\nHarald Ingenhag – drums\, percussions\nMartin Schulte – guitar \n\nDer studierte Jazzmusiker und Toningenieur Falk Grieffenhagen bewegt sich seit 20 Jahren im Grenzgebiet zwischen elektronischer und instrumentaler Performance. Seit 2013 gehört er zur aktuellen Besetzung von „Kraftwerk“. In unterschiedlichen Kontexten tritt er als Musiker und Performer weltweit auf. In diesem neuen Programm mit ausschließlich eigenen Kompositionen widmet der expressive Tenorsaxophonist und Bassklarinettist sich wieder dem akustischen Avantgarde-Jazz und verbindet mit seinen langjährigen Mitmusikern komponierte und improvisierte Musik zu einer einzigartigen Klang-Collage\, in der Grenzen zwischen Komposition\, Improvisation und Arrangement ineinanderfließen. Der entstehende musikalische Raum lebt vor allem vom vertrauten und vertrauensvollen Zusammenspiel der Beteiligten: \nStefan Rademacher am Bass zählt zu den wenigen deutschen Jazzmusikern mit internationalem Ruf. Der Sound der unter Bassisten selten zu hörenden akustischen Bassgitarre bietet eine beeindruckende Klangpalette meisterhaft kontrollierter Töne. \nDer seit 30 Jahren tätige Schlagzeuger\, Percussionist und Komponist Harald Ingenhag prägt den Bandsound mit zuweilen ungewöhnlichen Schlaginstrumenten bis zur reinen Bodypercussion. Seine spielerische Vorliebe zielt auf die eher leisen und subtilen klanglichen und rhythmischen Schattierungen. \nEiner der gefragtesten Gitarristen der Jazzszene zwischen Rhein und Ruhr ist der in Köln lebende Gitarrist Martin Schulte\, der auf renommierten Bühnen und Festivals weltweit auftritt. Mit seinem Gitarrenspiel bewegt sich Schulte virtuos an den Schnittstellen von Modern Jazz\, Pop\, Rock und Funk.
URL:https://www.loftkoeln.de/event/falk-grieffenhagen-quartett/
END:VEVENT
END:VCALENDAR