BEGIN:VCALENDAR
VERSION:2.0
PRODID:-//www.loftkoeln.de - ECPv5.14.2.1//NONSGML v1.0//EN
CALSCALE:GREGORIAN
METHOD:PUBLISH
X-WR-CALNAME:www.loftkoeln.de
X-ORIGINAL-URL:https://www.loftkoeln.de
X-WR-CALDESC:Veranstaltungen für www.loftkoeln.de
BEGIN:VTIMEZONE
TZID:Europe/Berlin
BEGIN:DAYLIGHT
TZOFFSETFROM:+0100
TZOFFSETTO:+0200
TZNAME:CEST
DTSTART:20250330T010000
END:DAYLIGHT
BEGIN:STANDARD
TZOFFSETFROM:+0200
TZOFFSETTO:+0100
TZNAME:CET
DTSTART:20251026T010000
END:STANDARD
END:VTIMEZONE
BEGIN:VEVENT
DTSTART;TZID=Europe/Berlin:20251125T200000
DTEND;TZID=Europe/Berlin:20251125T200000
DTSTAMP:20260423T144738
CREATED:20251007T064640Z
LAST-MODIFIED:20251125T120006Z
UID:31241-1764100800-1764100800@www.loftkoeln.de
SUMMARY:Facetten #13: Engel · Zoubek · Sundland · Heather | live recording
DESCRIPTION:  \nJonas Engel – Saxophon\nPhilip Zoubek – Piano & Synthesizer\nDan Peter Sundland – E-Bass\nSteve Heather – Schlagzeug\n\n(english: see below) \nWeitere Informationen zu den Preisen\, Karten-Reservierungen und den Öffnungszeiten finden Sie hier.\n\nPhilip Zoubek © Karl Degenhart ; Lotte Anker © Peter Gannushin ; Steve Heather © photomusic ; Dan Peter Sundland © Jim Croft\nBeim diesjährigen Konzert der Reihe Facetten bringt der Kölner Pianist Philip Zoubek die dänische Saxophonistin Lotte Anker\, den Schlagzeuger Steve Heather und den Bassisten Dan Peter Sundland zusammen. \nLotte Anker ist leider kurzfristig erkrank\, am heutigen Abend wird Jonas Engel am Saxophon zu hören sein. \n\nDrei herausragende Stilist*innen der europäischen Improvisationsszene\, deren Arbeit Verbindungen zwischen Free Jazz\, neuer Musik und Klangforschung schafft.\nMan darf gespannt sein auf einen Abend\, der durch große stilistische Offenheit und individuelle Handschriften geprägt sein wird. \nhttp://www.lotteanker.com/ \nhttps://www.danpetersundland.com/ \nhttps://steveheather.net/ \nhttps://www.philipzoubek.com/ \n  \n\n\nGefördert von: \n \n  \n  \n\n\nJonas Engel – saxophone\nPhilip Zoubek – piano & synthesizer\nDan Peter Sundland – electric bass\nSteve Heather – drums \nFurther information about prices\, ticket reservations and our opening times can be found here. \n\n\n\nAt this year’s concert in the Facetten series\, Cologne pianist Philip Zoubek brings together Danish saxophonist Lotte Anker\, drummer Steve Heather\, and bassist Dan Peter Sundland. \nUnfortunately\, Lotte Anker has fallen ill at short notice\, Jonas Engel will be playing the saxophone this evening. \nThree outstanding stylists from the European improvisation scene whose work creates connections between free jazz\, new music\, and sound research.\nWe can look forward to an evening characterized by great stylistic openness and individual signatures.
URL:https://www.loftkoeln.de/event/facetten-13-anker-%c2%b7-zoubek-%c2%b7-sundland-%c2%b7-heather-live-recording/
END:VEVENT
END:VCALENDAR