BEGIN:VCALENDAR
VERSION:2.0
PRODID:-//www.loftkoeln.de - ECPv5.14.2.1//NONSGML v1.0//EN
CALSCALE:GREGORIAN
METHOD:PUBLISH
X-WR-CALNAME:www.loftkoeln.de
X-ORIGINAL-URL:https://www.loftkoeln.de
X-WR-CALDESC:Veranstaltungen für www.loftkoeln.de
BEGIN:VTIMEZONE
TZID:Europe/Berlin
BEGIN:DAYLIGHT
TZOFFSETFROM:+0100
TZOFFSETTO:+0200
TZNAME:CEST
DTSTART:20240331T010000
END:DAYLIGHT
BEGIN:STANDARD
TZOFFSETFROM:+0200
TZOFFSETTO:+0100
TZNAME:CET
DTSTART:20241027T010000
END:STANDARD
END:VTIMEZONE
BEGIN:VEVENT
DTSTART;TZID=Europe/Berlin:20241220T200000
DTEND;TZID=Europe/Berlin:20241220T200000
DTSTAMP:20260420T132708
CREATED:20241025T083007Z
LAST-MODIFIED:20241106T103030Z
UID:27955-1734724800-1734724800@www.loftkoeln.de
SUMMARY:Facetten #12: Hautzinger · Zoubek · Schick · Buck | live recording
DESCRIPTION:Franz Hautzinger – Trompete\nPhilip Zoubek – präpariertes Piano\, Synthesizer\nIgnaz Schick – Turntables\nTony Buck – Schlagzeug \n\n(english: see below) \nAb Januar 2024 beginnen alle Konzerte im LOFT um 20.00 Uhr.\nAusnahmen – z.B. Sonntags – sind möglich.\nWeitere Informationen zu den Preisen\, Karten-Reservierungen und den Öffnungszeiten finden Sie hier.\n\nFrank Hautzinger © Othmar Bajlicz ; Tony Buck © Chris Holly ; Philip Zoubek © Karl Degenhardt\nMit diesem Quartett sind vier der kreativsten und außergewöhnlichsten Vertreter der improvisierten Musik im LOFT zu Gast. Die Musiker zeichnet ein höchst individueller Zugang zu ihren Instrumenten und ein sensibler Umgang mit der musikalischen Form aus. Musik auf Höhe der Zeit\, im Grenzbereich zwischen akustischer Kammermusik\, Elektronik und Ambient. \nhttp://tony-buck.com/ \nhttps://zangimusic.wordpress.com/ \nhttp://www.franzhautzinger.com/ \nhttps://philipzoubek.com/ \n\nGefördert von:\n     \n\n  \n\n\nFranz Hautzinger – trumpet\nPhilip Zoubek – prepared piano\, synthesizer\nIgnaz Schick – turntables\nTony Buck – drums \nFrom January 2024 on\, the concerts at the LOFT start round 8.00 pm\nExceptions – e.g. on Sundays – are possible.\nFurther information about prices\, ticket reservations and our opening times can be found here. \nThis quartet brings four of the most creative and extraordinary representatives of improvised music to the LOFT. The musicians are characterized by a highly individual approach to their instruments and a sensitive approach to musical form. Music at the cutting edge\, on the border between acoustic chamber music\, electronics and ambient.
URL:https://www.loftkoeln.de/event/facetten-12-hautzinger-%c2%b7-zoubek-%c2%b7-schick-%c2%b7-buck-live-recording/
END:VEVENT
END:VCALENDAR