BEGIN:VCALENDAR
VERSION:2.0
PRODID:-//www.loftkoeln.de - ECPv5.14.2.1//NONSGML v1.0//EN
CALSCALE:GREGORIAN
METHOD:PUBLISH
X-WR-CALNAME:www.loftkoeln.de
X-ORIGINAL-URL:https://www.loftkoeln.de
X-WR-CALDESC:Veranstaltungen für www.loftkoeln.de
BEGIN:VTIMEZONE
TZID:UTC
BEGIN:STANDARD
TZOFFSETFROM:+0000
TZOFFSETTO:+0000
TZNAME:UTC
DTSTART:20140101T000000
END:STANDARD
END:VTIMEZONE
BEGIN:VEVENT
DTSTART;TZID=UTC:20140202T113000
DTEND;TZID=UTC:20140202T113000
DTSTAMP:20260420T134318
CREATED:20170323T135919Z
LAST-MODIFIED:20170403T101246Z
UID:4501-1391340600-1391340600@www.loftkoeln.de
SUMMARY:Extended Voice in/and Performance Art/ Extended Voice Konferenz
DESCRIPTION:Referenten: Andrea Pagnes\, Verena Stenke\, Boris Nieslony\, Lisa Steib\, Karin Meiner\, Angie Hiesl\, Susanne Weins und Ralf Peters \n\nstimmfeld e.V. lädt ein zur Konferenz: Der Kölner Verein stimmfeld e.V.\, der sich schon seit geraumer Zeit mit den Beziehungen von Extended Voice und Performance Art beschäftigt\, hat Künstlerinnen und Künstler beider Disziplinen eingeladen\, miteinander ins Gespräch zu kommen. Initiator und Leiter der Konferenz ist der Kölner Stimm- und Performancekünstler Ralf Peters. Die eingeladenen Künstler und Experten werden kurze Vorträge über ihre aktuellen Vorstellungen und Ideen zur Performance Art halten\, auf deren Grundlage dann die Diskussionen stattfinden. \nDie Performance Art hat in den vergangenen beiden Jahrzehnten einen enormen Aufschwung erlebt\, der sie aus einem Nischendasein zwischen Avantgarde und Underground bis ins Zentrum künstlerischen Geschehens gebracht hat. Die Extended Voice kann zwar keine derartige Erfolgsgeschichte von sich erzählen\, aber auch sie hat sich als eigenständige Kunstform längst etabliert. \nBeide Kunstformen eint die Absicht\, die Fragen nach dem „Wesen“ der Kunst und der Beziehung von Kunst und Leben beständig neu zu stellen. Wo ähneln sich die Antwortversuche? Wo zeigen sich künstlerische Berührungspunkte von Extended Voice und Performance Art?
URL:https://www.loftkoeln.de/event/extended-voice-inand-performance-art-extended-voice-konferenz/
END:VEVENT
END:VCALENDAR