BEGIN:VCALENDAR
VERSION:2.0
PRODID:-//www.loftkoeln.de - ECPv5.14.2.1//NONSGML v1.0//EN
CALSCALE:GREGORIAN
METHOD:PUBLISH
X-WR-CALNAME:www.loftkoeln.de
X-ORIGINAL-URL:https://www.loftkoeln.de
X-WR-CALDESC:Veranstaltungen für www.loftkoeln.de
BEGIN:VTIMEZONE
TZID:Europe/Berlin
BEGIN:DAYLIGHT
TZOFFSETFROM:+0100
TZOFFSETTO:+0200
TZNAME:CEST
DTSTART:20230326T010000
END:DAYLIGHT
BEGIN:STANDARD
TZOFFSETFROM:+0200
TZOFFSETTO:+0100
TZNAME:CET
DTSTART:20231029T010000
END:STANDARD
END:VTIMEZONE
BEGIN:VEVENT
DTSTART;TZID=Europe/Berlin:20230105T203000
DTEND;TZID=Europe/Berlin:20230105T203000
DTSTAMP:20260422T112734
CREATED:20221127T110506Z
LAST-MODIFIED:20221205T074728Z
UID:22412-1672950600-1672950600@www.loftkoeln.de
SUMMARY:Ethan Iverson · Andreas Lang · Eva Klesse
DESCRIPTION:Ethan Iverson – Piano\nAndreas Lang – Bass\nEva Klesse – Schlagzeug \n\n(english: see below) \nInformationen zu den Preisen\, Karten-Reservierungen und den Öffnungszeiten finden Sie hier.\n\nI. Iverson © Keith Major ; E. Klesse © Marcus Rex\nZu hören und zu sehen ist eine Weltpremiere – das Aufeinandertreffen dreier Musiker*innen aus drei verschiedenen Ländern und Generationen: Ethan Iverson (49\, USA\, Piano)\, Andreas Lang (42\, Dänemark/Deutschland\, Kontrabass) und Eva Klesse (36\, Deutschland\, Schlagzeug).\nBassist und Schlagzeugerin kennen sich bereits aus verschiedenen Formationen in Berlin\, u.a. dem Projekt of hearts & mistakes mit Sängerin Mia Knop Jacobsen und Pianistin Julia Hülsmann sowie dem Septett Julia Hülsmann & friends.\nEthan Iverson und Eva Klesse wiederum lernten sich bei einem Workshop in Dänemark im Jahr 2017 kennen. Nach einem Wiedersehen in New York festigte sich der Wunsch\, gemeinsam zu musizieren\, welcher 2019 dann mit einer ersten kleinen Trio-Tour in die Realität umgesetzt wurde. Weitere geplante transatlantische Projekte fielen zunächst der Pandemie zum Opfer\, nun kann die gemeinsame musikalische Erkundungsreise fortgesetzt werden.\nZu hören sein werden u.a. Eigenkompositionen aller Bandmitglieder\, Stücke der Schlagzeuglegende Paul Motian\, sowie Standards des American Songbook in neuem Gewand. \nDas unglaubliche Wissen und die Erfahrung Ethan Iversons (u.a. Autor des weltweit bekannten und geachteten Jazzblog Do the Math sowie jahrelanger Pianist des weltberühmten Jazztrios The Bad Plus und Mitmusiker von Legenden wie Tootie Heath\, Mark Turner und Billy Hart) treffen hier auf die Vielseitigkeit\, Offenheit und das Fundament des unglaublich gefragten Bassisten Andreas Lang\, sowie auf die Energie und Klangsensibilität der Schlagzeugerin Eva Klesse. \nhttps://ethaniverson.com/ \nhttps://evaklesse.de/ \nhttps://de.wikipedia.org/wiki/Andreas_Lang_(Bassist) \n\nEthan Iverson – piano\nAndreas Lang – bass\nEva Klesse – drums \nInformation about prices\, ticket reservations and our opening times can be found here. \nTo be heard and seen is a world premiere – the meeting of three musicians from three different countries and generations: Ethan Iverson (49\, USA\, piano)\, Andreas Lang (42\, Denmark/Germany\, double bass) and Eva Klesse (36\, Germany\, drums).\nBassist and drummer already know each other from various formations in Berlin\, including the project of hearts & mistakes with singer Mia Knop Jacobsen and pianist Julia Hülsmann\, as well as the septet Julia Hülsmann & friends.\nEthan Iverson and Eva Klesse\, in turn\, met at a workshop in Denmark in 2017. After a reunion in New York\, the desire to make music together was solidified\, which then became a reality in 2019 with a first small trio tour. Further planned transatlantic projects initially fell victim to the pandemic\, now the joint musical journey of discovery can be continued.\nYou will hear original compositions of all band members\, pieces of the drum legend Paul Motian\, as well as standards of the American Songbook in a new guise. \nThe incredible knowledge and experience of Ethan Iverson (author of the world-renowned and respected jazz blog „Do the Math“ as well as long-time pianist of the world-famous jazz trio „The Bad Plus“ and co-musician of legends such as Tootie Heath\, Mark Turner and Billy Hart) meets the versatility\, openness and foundation of the incredibly sought-after bassist Andreas Lang\, as well as the energy and sound sensitivity of drummer Eva Klesse.
URL:https://www.loftkoeln.de/event/ethan-iverson-%c2%b7-andreas-lang-%c2%b7-eva-klesse/
END:VEVENT
END:VCALENDAR