BEGIN:VCALENDAR
VERSION:2.0
PRODID:-//www.loftkoeln.de - ECPv5.14.2.1//NONSGML v1.0//EN
CALSCALE:GREGORIAN
METHOD:PUBLISH
X-WR-CALNAME:www.loftkoeln.de
X-ORIGINAL-URL:https://www.loftkoeln.de
X-WR-CALDESC:Veranstaltungen für www.loftkoeln.de
BEGIN:VTIMEZONE
TZID:UTC
BEGIN:STANDARD
TZOFFSETFROM:+0000
TZOFFSETTO:+0000
TZNAME:UTC
DTSTART:20180101T000000
END:STANDARD
END:VTIMEZONE
BEGIN:VEVENT
DTSTART;TZID=UTC:20181005T203000
DTEND;TZID=UTC:20181005T203000
DTSTAMP:20260422T183654
CREATED:20180813T055926Z
LAST-MODIFIED:20181004T051710Z
UID:8997-1538771400-1538771400@www.loftkoeln.de
SUMMARY:ERNA ROT
DESCRIPTION:Erna Rot – Gesang\, Text & Musik\nSimon Doetsch – Trompete & Akkordeon\nPeter Kowal – Gitarre & Mandoline\nConstantin Krahmer – Piano\nStefan Rey – Kontrabass\nFelix Günther – Schlagzeug \n\n„Zeitgemäßer Jazz\, der klingt so!“ NOZ \n„Diese Songs hüpfen in den Ohren und sind dennoch keine lulligen Ohrwürmer!“ Jazzthing \n„Gute Laune mit Niveau\, Originalität und jeder Menge Wodka.“ Schallmagazin \nErna Rot macht jungen\, deutschen Jazz\, mit einer ganz eigenen Note. Die gebürtige Berlinerin und Wahlkölnerin vertont ironische Geschichten und Beobachtungen aus dem Alltag\, in denen sich schnell so manch einer von uns wiederfindet. Mit Einflüssen aus Swing\, Bluegrass und klassischer Singer-/ Songwriter Tradition erweitert sie den Jazz\, wie ihr gerade der Schnabel gewachsen ist.  Nach dem Debutalbum „Ode an die Freude“ (Ozella 2015)\, setzt sie mit dem Nachfolger „Angst & Weltschmerz“ (ACT 2018)  ihr Thema passend zum aktuellen Zeitgeist. Selbstverständlich mit einem Augenzwinkern. Männer\, die sabbernd nachts alleine Zug fahren; Eisbären\, die auf einsamen Schollen schlafen oder Papierschiffe\, die spätestens am Gartenzaun den Geist aufgeben. Mit Witz\, Charme und einer Portion bodenloser Frechheit\, hat sich die die Sängerin\, zusammen mit ihrer Band\, ein breites Publikum erspielt und beim renommierten Jazzlabel ACT einen neuen Heimathafen gefunden. \nNeben der Musik schreibt sie für Film und Fernsehen und ist Regiestudentin an der Kunsthochschule für Medien Köln.
URL:https://www.loftkoeln.de/event/erna-rot/
END:VEVENT
END:VCALENDAR