BEGIN:VCALENDAR
VERSION:2.0
PRODID:-//www.loftkoeln.de - ECPv5.14.2.1//NONSGML v1.0//EN
CALSCALE:GREGORIAN
METHOD:PUBLISH
X-WR-CALNAME:www.loftkoeln.de
X-ORIGINAL-URL:https://www.loftkoeln.de
X-WR-CALDESC:Veranstaltungen für www.loftkoeln.de
BEGIN:VTIMEZONE
TZID:UTC
BEGIN:STANDARD
TZOFFSETFROM:+0000
TZOFFSETTO:+0000
TZNAME:UTC
DTSTART:20140101T000000
END:STANDARD
END:VTIMEZONE
BEGIN:VEVENT
DTSTART;TZID=UTC:20140126T203000
DTEND;TZID=UTC:20140126T203000
DTSTAMP:20260420T182245
CREATED:20170323T141005Z
LAST-MODIFIED:20170323T141005Z
UID:4506-1390768200-1390768200@www.loftkoeln.de
SUMMARY:EREL / NILLESEN / HAHNE / MUCHE: Spaces
DESCRIPTION:Etienne Nillesen – drums\nKorhan Erel (Istanbul) – electr. \nSven Hahne – electr.\nMatthias Muche – trb. \n\nKorhan Erel ist ein Computer-Musiker\, Improvisator und Sound- Designer aus Istanbul. Erel ist eines der Gründungsmitglieder von »Islak Kopek« und ein Pionier der freien Improvisation in der Türkei. Mit seinem eigens entwickelten Computersystem »Omnibus« performt Korhan Erel als Ein-Mann Improvisations -Band. »Omnibus«\, das ist ein Bündel von sich stetig verändernden Instrumentarien\, das auf der Basis von Ableton Live- und Max for Live-Software programmiert worden ist. Mit »Omnibus« können konkrete Klänge (Samples\, Field Recordings) in Echtzeit verwandelt und bearbeitet werden. Im Loft trifft er auf den Elektroniker Sven Hahne\, der mit der Software »Supercollider « ebenfalls ein selbstentwickeltes und programmiertes Instrument geschaffen hat\, dass sich in Echtzeit flexibel und intuitiv von ihm spielen lässt. Er ist zusammen mit dem Posaunisten Matthias Muche Initiator von »Frischzelle Festival für intermediale Performance « und Gründungsmitglied von »Zeitkunst e.V.«. Matthias Muche traf Korhan Erel im November 2012 erstmalig im Rahmen der Soundtrips NRW und es war sofort klar\, dass sie ihre Zusammenarbeit fortsetzten wollten. Mit dabei ist der Schlagzeuger Etienne Nillesen\, einer der vielseitigsten Musiker in Köln\, mit dem es nun endlich auch zur Premiere im Kölner Loft kommt.
URL:https://www.loftkoeln.de/event/erel-nillesen-hahne-muche-spaces/
END:VEVENT
END:VCALENDAR