BEGIN:VCALENDAR
VERSION:2.0
PRODID:-//www.loftkoeln.de - ECPv5.14.2.1//NONSGML v1.0//EN
CALSCALE:GREGORIAN
METHOD:PUBLISH
X-WR-CALNAME:www.loftkoeln.de
X-ORIGINAL-URL:https://www.loftkoeln.de
X-WR-CALDESC:Veranstaltungen für www.loftkoeln.de
BEGIN:VTIMEZONE
TZID:Europe/Berlin
BEGIN:DAYLIGHT
TZOFFSETFROM:+0100
TZOFFSETTO:+0200
TZNAME:CEST
DTSTART:20250330T010000
END:DAYLIGHT
BEGIN:STANDARD
TZOFFSETFROM:+0200
TZOFFSETTO:+0100
TZNAME:CET
DTSTART:20251026T010000
END:STANDARD
END:VTIMEZONE
BEGIN:VEVENT
DTSTART;TZID=Europe/Berlin:20250116T200000
DTEND;TZID=Europe/Berlin:20250116T200000
DTSTAMP:20260420T132533
CREATED:20241205T183813Z
LAST-MODIFIED:20250116T082817Z
UID:28312-1737057600-1737057600@www.loftkoeln.de
SUMMARY:Ensemble für experimentelle Improvisation der HfMT Köln (Institut für Neue Musik ) | live recording
DESCRIPTION:Risa Matsushima – Stimme\nAlonzo Muñoz\, Ben Jones\, Pablo Castaño – Saxophone\nHanna-Maria Tikka – Violine\nNepomuk Golding – Akkordeon\nAhmetcan Gökçeer – Gitarre\nPetek Atalay\, Christian Brandenburger\, Lis Marti\, Adele Thoma\, Tryfon Typou\, Emilio Jotter\, Phillip Weyand\, Carlos Lopes – Tasten\nJonas Evenstad\, Jacqueline Dourado\, Enyalios Papadoupoulos – Schlagzeug \nSergej Maingardt – Live Elektronik\nLeitung: Paulo Alvares \n\n(english: see below) \nAb Januar 2024 beginnen alle Konzerte im LOFT um 20.00 Uhr.\nAusnahmen – z.B. Sonntags – sind möglich.\nWeitere Informationen zu den Preisen\, Karten-Reservierungen und den Öffnungszeiten finden Sie hier.\n\nEnsemble für experimentelle Improvisation der Hochschule für Musik und Tanz Köln\nSeit 1997 ist das am Institut für Neue Musik der Hochschule für Musik und Tanz Köln verankerte Ensemble aus Instrumentalist*innen\, Komponist*innen und Performer*innen unterschiedlicher Klassen in den Bereichen der experimentellen Improvisation und der zeitgenössischen Musik hoch aktiv.\nIn unterschiedlichen Konstellationen sucht das Ensemble neue Wege zwischen Erarbeitung und Interpretation\, Gestik und Strukturierung.\nMit expandierter und radikaler Sprache für Innovation und Recherche orientiert und fokussiert das Ensemble die Arbeit auf bahnbrechend neue Mitteln der Improvisation. \n\n\n\n\nRisa Matsushima – voice\nAlonzo Muñoz\, Ben Jones\, Pablo Castaño – saxophones\nHanna-Maria Tikka – violin\nNepomuk Golding – accordion\nAhmetcan Gökçeer – guitar\nPetek Atalay\, Christian Brandenburger\, Lis Marti\, Adele Thoma\, Tryfon Typou\, Emilio Jotter\, Phillip Weyand\, Carlos Lopes – keys\nJonas Evenstad\, Jacqueline Dourado\, Enyalios Papadoupoulos – drums \nSergej Maingardt – live electronic\nArranged by Paulo Alvares \nFrom January 2024 on\, the concerts at the LOFT start round 8.00 pm\nExceptions – e.g. on Sundays – are possible.\nFurther information about prices\, ticket reservationsand our opening times can be found here.\nSince 1997\, the ensemble of instrumentalists\, composers and performers from various classes has been highly active in the field of experimental improvisation and contemporary music at the Institute for New Music at the University of Music and Dance.\nIn various constellations\, the ensemble seeks new paths between development and interpretation\, gesture and structure.\nWith an expanded and radical language for innovation and research\, the ensemble orients and focuses its work on groundbreaking new means of improvisation.
URL:https://www.loftkoeln.de/event/ensemble-fuer-experimentelle-improvisation-der-hfmt-koeln-institut-fuer-neue-musik/
END:VEVENT
END:VCALENDAR