BEGIN:VCALENDAR
VERSION:2.0
PRODID:-//www.loftkoeln.de - ECPv5.14.2.1//NONSGML v1.0//EN
CALSCALE:GREGORIAN
METHOD:PUBLISH
X-WR-CALNAME:www.loftkoeln.de
X-ORIGINAL-URL:https://www.loftkoeln.de
X-WR-CALDESC:Veranstaltungen für www.loftkoeln.de
BEGIN:VTIMEZONE
TZID:UTC
BEGIN:STANDARD
TZOFFSETFROM:+0000
TZOFFSETTO:+0000
TZNAME:UTC
DTSTART:20160101T000000
END:STANDARD
END:VTIMEZONE
BEGIN:VEVENT
DTSTART;TZID=UTC:20160123T203000
DTEND;TZID=UTC:20160123T203000
DTSTAMP:20260422T125616
CREATED:20170113T114822Z
LAST-MODIFIED:20170113T114822Z
UID:3665-1453581000-1453581000@www.loftkoeln.de
SUMMARY:Enemy (Downes/Maddren/Eldh)
DESCRIPTION:Kit Downes – piano\nPetter Eldh – bass\nJames Maddren – drums \n\nBased in London and Berlin\, they play for the appreciation of expression through complexity – light-speed rhythmic patterns and dense harmonic clusters collide in a unique and formidable combination of voices that has been described as both „fiercely intense“ and „beautifully intricate“. The members of the band have all received their own critical acclaim (including a Mercury Music Award Nomination and BBC Jazz Award) as well as having toured the world with some of the finest musicians (Django Bates\, Marc Copeland\, Thomas Strønen\, Marius Neset)\, but here they shine collectively\, as like-minded experimentalists and improvisers.“ \n„Rip-roaring groove\, mind-boggling polyrhythmic drumming\, snapping physicality and sweeping piano runs from brittle street grooves“  John Fordham\, The Guardian 2015 \n\n\n 
URL:https://www.loftkoeln.de/event/enemy-downesmaddreneldh/
END:VEVENT
END:VCALENDAR