BEGIN:VCALENDAR
VERSION:2.0
PRODID:-//www.loftkoeln.de - ECPv5.14.2.1//NONSGML v1.0//EN
CALSCALE:GREGORIAN
METHOD:PUBLISH
X-WR-CALNAME:www.loftkoeln.de
X-ORIGINAL-URL:https://www.loftkoeln.de
X-WR-CALDESC:Veranstaltungen für www.loftkoeln.de
BEGIN:VTIMEZONE
TZID:UTC
BEGIN:STANDARD
TZOFFSETFROM:+0000
TZOFFSETTO:+0000
TZNAME:UTC
DTSTART:20080101T000000
END:STANDARD
END:VTIMEZONE
BEGIN:VEVENT
DTSTART;TZID=UTC:20080526T203000
DTEND;TZID=UTC:20080526T203000
DTSTAMP:20260420T095959
CREATED:20180821T135649Z
LAST-MODIFIED:20180821T135649Z
UID:9167-1211833800-1211833800@www.loftkoeln.de
SUMMARY:Elliott Sharp: Tectonics
DESCRIPTION:solo electroacoustic music featuring electric guitar\, soprano sax\, electronics \n\nZum 3. Mal gastiert der New Yorker Gitarrist und Komponist Elliott Sharp solo im Loft – diesmal stellt er seine 3. Cd ERRATA des TECTONICS Projektes vor Dafür benutzt er seinen 8 saitigen selbstentwickelten „Gitarrenbass“ ein Apple Powerbook mit MAX/MSP\, verschiedene Sequenzer und Sampler und auch ein elektronisch verfremdetes Saxophon. Dieses Soloprogramm hat erschon in Berlin\, Tokyo\, Paris\, Brussels\, Lyon\, Zürich\, Kyoto\, Ljubljana\, Bern und Wien aufgeführt. Seit 1970 gehört er zu den kreativen Köpfen der New Yorker Szene und hat immer Entwicklungen vorangetrieben und auch vorweggenommen- ein innovativer Musiker\, der immer mit neuen Entwicklungen zu überraschen weiß. \nElliott Sharp: Tectonic Errata (Knitting Factory Records) \nwww.elliottsharp.com\nwww.repple.se/datacide/road07.html \nzurück zur Übersicht
URL:https://www.loftkoeln.de/event/elliott-sharp-tectonics/
END:VEVENT
END:VCALENDAR