BEGIN:VCALENDAR
VERSION:2.0
PRODID:-//www.loftkoeln.de - ECPv5.14.2.1//NONSGML v1.0//EN
CALSCALE:GREGORIAN
METHOD:PUBLISH
X-WR-CALNAME:www.loftkoeln.de
X-ORIGINAL-URL:https://www.loftkoeln.de
X-WR-CALDESC:Veranstaltungen für www.loftkoeln.de
BEGIN:VTIMEZONE
TZID:UTC
BEGIN:STANDARD
TZOFFSETFROM:+0000
TZOFFSETTO:+0000
TZNAME:UTC
DTSTART:20100101T000000
END:STANDARD
END:VTIMEZONE
BEGIN:VEVENT
DTSTART;TZID=UTC:20100326T203000
DTEND;TZID=UTC:20100326T203000
DTSTAMP:20260424T194309
CREATED:20171027T090641Z
LAST-MODIFIED:20171027T090641Z
UID:6132-1269635400-1269635400@www.loftkoeln.de
SUMMARY:Duotalk: CD-Release "How about you"
DESCRIPTION:Meike van Bebber – vocals\nDaniel Goldkuhle – guitar \n\nDuotalk klingt\, wie sie klingen sollen. Keine falsche Bescheidenheit! Laut\, aber leise – groovy\, aber… überzeugen Sie sich selbst! Gitarre und Gesang aufwendig arrangiert\, beeinflusst durch Ella Fitzgerald & Joe Pass\, Tuck & Patti\, Papas Plattenschrank und einen unglaublich guten Musikgeschmack. Perfekt aufeinander eingespielt und immer für eine Überraschung gut spielen die beiden Musiker sowohl Eigenkompositionen\, als auch spannende Arrangements bekannter Jazz- und Popsongs. \nwww.myspace.com/duotalk
URL:https://www.loftkoeln.de/event/duotalk-cd-release-how-about-you/
END:VEVENT
END:VCALENDAR