BEGIN:VCALENDAR
VERSION:2.0
PRODID:-//www.loftkoeln.de - ECPv5.14.2.1//NONSGML v1.0//EN
CALSCALE:GREGORIAN
METHOD:PUBLISH
X-WR-CALNAME:www.loftkoeln.de
X-ORIGINAL-URL:https://www.loftkoeln.de
X-WR-CALDESC:Veranstaltungen für www.loftkoeln.de
BEGIN:VTIMEZONE
TZID:UTC
BEGIN:STANDARD
TZOFFSETFROM:+0000
TZOFFSETTO:+0000
TZNAME:UTC
DTSTART:20210101T000000
END:STANDARD
END:VTIMEZONE
BEGIN:VEVENT
DTSTART;TZID=UTC:20210914T203000
DTEND;TZID=UTC:20210914T203000
DTSTAMP:20260423T164716
CREATED:20210816T134743Z
LAST-MODIFIED:20210818T052651Z
UID:17767-1631651400-1631651400@www.loftkoeln.de
SUMMARY:Duo: SIMON CAMATTA & DJ ILLVIBE
DESCRIPTION:Simon Camatta – drums\, percussion\nDJ Illvibe – turntables\, faderboard \n  \n\nDas Konzert wird vor Publikum stattfinden\, weitere Informationen zu Konzerten vor Publikum im LOFT während der Corona-Pandemie finden Sie hier.\nDoors: 20 Uhr / Konzertbeginn 20.30 Uhr\n\nKarten:\nnormal 12\,- €uro\nStudierende\, Personen mit Behindertenausweis 6\,- €uro\nIn Ihrem neuen Duo mischen die beiden genrefreien Musiker Simon Camatta und Vincent Graf von Schlippenbach aka DJ Illvibe alles was sich in den letzten Jahren so angesammelt hat. Deutliche freier als zuletzt im Trio als Hamdsome Couple feat. DJ Illvibe\, jedoch nicht verlegen auch mal einen Beat zu droppen\, improvisieren sie sich\, frei von Dogmen durch die bunte Welt der Klänge und Rhythmen. \nhttp://simoncamatta.de \nhttps://umlandrecords.de \nhttps://de.wikipedia.org/wiki/DJ_Illvibe \n\nSimon Camatta – drums\, percussion\nDJ Illvibe – turntables\, faderboard \nThe concert will happen in front of a live audience\, please read our infos concerning concerts with an audience during the Corona pandemic here.\ndoors: 8.00 pm/ concert starts: 8.30 pm\n\ntickets:\nnormal 12\,- €uro\nstudents\, disabled persons 6\,- €uro \nIn their new duo\, the two genre-free musicians Simon Camatta and Vincent Graf von Schlippenbach aka DJ Illvibe mix everything that has accumulated in recent years. Much freer than in the trio Hamdsome Couple feat. DJ Illvibe\, but not embarrassed to drop a beat\, they improvise their way through the colourful world of sounds and rhythms\, free of dogmas. \nhttp://simoncamatta.de \nhttps://umlandrecords.de \nhttps://de.wikipedia.org/wiki/DJ_Illvibe
URL:https://www.loftkoeln.de/event/duo-simon-camatta-dj-illvibe-2/
END:VEVENT
END:VCALENDAR